Workbook
Name Yr: [1]Constants!$D$3

Sheet Sheet1
A1: This worksheet will help you determine your years of service with the CSU. You count service from when you first became an employee of the CSU projected through December 31, 2026.
A2: Service is based on full-time employment, or its equivalent. Full-time employment means the usual time at work for employees in the position you hold (or held) at the CSU. If you worked that much or more in a year, then you earn a full year (1.0 year) of service. If you worked half that much in a year, then you earn a half year (0.5 year) of service. The percentage of time worked will usually provide a good indication of how much service you earn.
A3: If you work for less than a full year (for example in the year you are hired or if you had a period of unpaid leave or severance), then you must prorate your service in those years. For example, if you work full-time for three months in a year in a position normally requiring 12 months of full-time work in a year, then you earn 0.25 years (3 months divided by 12 months) of service. You may refer to your annual CalPERS statement, or register on the myCalPERS website.
A4: Instructions:
A5: 1. Complete the orange cells below. If you made previous contributions, fill out the respective green cells with how much you contributed each year. 2. Type your name on the signature line, aknowledging the signature disclosure below. 3. Send this to your campus benefits/payroll office to confirm the years of service (can be found on CalPERS) and have them type their name on the request. 4. Once all signatures are completed, please fax the form to the Systemwide Benefits team at (562)951-4695 or submit it online at calstate.edu/403bsubmit. Please retain a copy of this for your records and to use in future catchup requests. If you have any questions with this form, please call (562)951-4411 | D5: Year | E5: Deferral *
D6: 1987-2001 | E6: 0 | F6: 9500 | I6: =MAX(0,E6-F6) -> 0
D7: 2002 | F7: 11000 | G7: 1000 | I7: =MAX(0,E7-F7) -> 0 | J7: =IF(Sheet1!$B$22>=15,1,0)*MIN(I7,3000) -> 0
D8: =1+D7 -> 2003 | F8: 12000 | G8: 2000 | I8: =MAX(0,E8-F8) -> 0 | J8: =IF(Sheet1!$B$22>=15,1,0)*MIN(I8,3000) -> 0
D9: =1+D8 -> 2004 | F9: 13000 | G9: 3000 | I9: =MAX(0,E9-F9) -> 0 | J9: =IF(Sheet1!$B$22>=15,1,0)*MIN(I9,3000) -> 0
D10: =1+D9 -> 2005 | F10: 14000 | G10: 4000 | I10: =MAX(0,E10-F10) -> 0 | J10: =IF(Sheet1!$B$22>=15,1,0)*MIN(I10,3000) -> 0
D11: =1+D10 -> 2006 | F11: 15000 | G11: 5000 | I11: =MAX(0,E11-F11) -> 0 | J11: =IF(Sheet1!$B$22>=15,1,0)*MIN(I11,3000) -> 0
D12: =1+D11 -> 2007 | F12: 15500 | G12: 5000 | I12: =MAX(0,E12-F12) -> 0 | J12: =IF(Sheet1!$B$22>=15,1,0)*MIN(I12,3000) -> 0
D13: =1+D12 -> 2008 | F13: 15500 | G13: 5000 | I13: =MAX(0,E13-F13) -> 0 | J13: =IF(Sheet1!$B$22>=15,1,0)*MIN(I13,3000) -> 0
A14: Field | B14: Input | D14: =1+D13 -> 2009 | F14: 16500 | G14: 5500 | I14: =MAX(0,E14-F14) -> 0 | J14: =IF(Sheet1!$B$22>=15,1,0)*MIN(I14,3000) -> 0
A15: Employee Name (First & Last Name) | D15: =1+D14 -> 2010 | F15: 16500 | G15: 5500 | I15: =MAX(0,E15-F15) -> 0 | J15: =IF(Sheet1!$B$22>=15,1,0)*MIN(I15,3000) -> 0
A16: Phone Number | D16: =1+D15 -> 2011 | F16: 16500 | G16: 5500 | I16: =MAX(0,E16-F16) -> 0 | J16: =IF(Sheet1!$B$22>=15,1,0)*MIN(I16,3000) -> 0
A17: Email | D17: =1+D16 -> 2012 | F17: 17000 | G17: 5500 | I17: =MAX(0,E17-F17) -> 0 | J17: =IF(Sheet1!$B$22>=15,1,0)*MIN(I17,3000) -> 0
A18: Date of Birth | D18: =1+D17 -> 2013 | F18: 17500 | G18: 5500 | I18: =MAX(0,E18-F18) -> 0 | J18: =IF(Sheet1!$B$22>=15,1,0)*MIN(I18,3000) -> 0
A19: Last 4 of Social Security Number (do not provide entire SSN) | D19: =1+D18 -> 2014 | F19: 17500 | G19: 5500 | I19: =MAX(0,E19-F19) -> 0 | J19: =IF(Sheet1!$B$22>=15,1,0)*MIN(I19,3000) -> 0
A20: Current Salary | D20: =1+D19 -> 2015 | F20: 18000 | G20: 6000 | I20: =MAX(0,E20-F20) -> 0 | J20: =IF(Sheet1!$B$22>=15,1,0)*MIN(I20,3000) -> 0
A21: Age on 12/31/2026 | D21: =1+D20 -> 2016 | F21: 18000 | G21: 6000 | I21: =MAX(0,E21-F21) -> 0 | J21: =IF(Sheet1!$B$22>=15,1,0)*MIN(I21,3000) -> 0
A22: Years of Service with CSU | D22: =1+D21 -> 2017 | F22: 18000 | G22: 6000 | I22: =MAX(0,E22-F22) -> 0 | J22: =IF(Sheet1!$B$22>=15,1,0)*MIN(I22,3000) -> 0
A23: Total 403b & 401k contributions Since 1987* | B23: =D34 -> 0 | D23: =1+D22 -> 2018 | F23: 18500 | G23: 6000 | I23: =MAX(0,E23-F23) -> 0 | J23: =IF(Sheet1!$B$22>=15,1,0)*MIN(I23,3000) -> 0
A24: Years of service x 5000 | B24: =B22*5000 -> 0 | D24: =1+D23 -> 2019 | F24: 19000 | G24: 6000 | I24: =MAX(0,E24-F24) -> 0 | J24: =IF(Sheet1!$B$22>=15,1,0)*MIN(I24,3000) -> 0
A25: Max | B25: 24500 | D25: =1+D24 -> 2020 | F25: 19500 | G25: 6500 | I25: =MAX(0,E25-F25) -> 0 | J25: =IF(Sheet1!$B$22>=15,1,0)*MIN(I25,3000) -> 0
A26: Catch Up Contribution | B26: =IF(AND(B21>=60, B21<=63), 11250, IF(B21>=50, 8000, 0)) -> 0 | D26: =1+D25 -> 2021 | F26: 19500 | G26: 6500 | I26: =MAX(0,E26-F26) -> 0 | J26: =IF(Sheet1!$B$22>=15,1,0)*MIN(I26,3000) -> 0
A27: Previous 15-year catchup contributions | B27: =E34 -> 0 | D27: =1+D26 -> 2022 | F27: 20500 | G27: 6500 | I27: =MAX(0,E27-F27) -> 0 | J27: =IF(Sheet1!$B$22>=15,1,0)*MIN(I27,3000) -> 0
A28: 15-year catchup allowed for this year | B28: =IF(AND(B22>=15, B23<B24), MIN(MIN(3000, 15000 - B27), B24 - B23), 0) -> 0 | D28: =1+D27 -> 2023 | F28: 22500 | G28: 7500 | I28: =MAX(0,E28-F28) -> 0 | J28: =IF(Sheet1!$B$22>=15,1,0)*MIN(I28,3000) -> 0
A29: Total Employee Contribution Limit | B29: =SUM(B25+B26+B28) -> 24500 | D29: 2024 | F29: 23000 | G29: 7500 | I29: =MAX(0,E29-F29) -> 0 | J29: =IF(Sheet1!$B$22>=15,1,0)*MIN(I29,3000) -> 0
D30: 2025 | F30: 23500 | G30: 7500 | H30: 11250 | I30: =MAX(0,E30-F30) -> 0 | J30: =IF(Sheet1!$B$22>=15,1,0)*MIN(I30,3000) -> 0
D31: 2026 | F31: 24500 | G31: 8000 | H31: 11250 | I31: =MAX(0,E31-F31) -> 0 | J31: =IF(Sheet1!$B$22>=15,1,0)*MIN(I31,3000) -> 0
A32: *Include contributions made by you to any Section 401(k) or 403(b) plan (including Roth contributions), or Simplified Employee Pension (SEP).
D33: Total Contributions | E33: Total 15-Year Catchup
D34: =SUM(E6:E31) -> 0 | E34: =SUM(J7:J31) -> 0
A35: If the plan permits both the age 50 catch-up and the special 403(b) catch-ups, you must consider the special 403(b) catch-up first to apply the annual limit. Then, apply the age 50 catch-up to any remaining amount, up to the IRC Section 414(v) limit. For example, a participant eligible for both the age 50 catch-up and $3,000 of the special 403(b) catch-up makes an additional $8,000 in catch-up contributions during 2026. $3,000 of the $8,000 is applied to the special 403(b) catch-up and the remaining $5,000 is applied to the age 50 catch-up. See Treas. Reg. 1.403(b)-4(c)(3)(iv).
A42: Important Note! Beginning in 2026, employees who turn 50 or older in 2026 and whose 2025 FICA wages (Box 3 on the 2025 Form W-2) exceed $150,000 will be required to make all catch-up contributions on a Roth (after-tax) basis. This requirement applies to catch-up contributions made to the CSU 403(b) Supplemental Retirement Plan (SRP), as well as the State of California Savings Plus 401(k) and 457(b) Plans. Employees with 2025 FICA wages at or below $150,000 may continue to make catch-up contributions on a pre-tax or Roth basis, depending on plan availability.
A49: Signatures Required:
A50: My Signature below certifies that I have at least 15 years of service and to the best of my knowledge the information used in completing this worksheet is accurate. I understand that I (and/or my financial advisor) is/are solely responsible for the accuracy of the information supplied on this form.
A56: Employee Signature | B56: Date
A59: Campus HR Signature | B59: Date
