Workbook
Name AsOfDate: #REF!
Name AsOfDate: #REF!
Name AsOfDate: #REF!
Name BOTTOM: #REF!
Name BOTTOM: #REF!
Name BOTTOM: #REF!
Name CF: #REF!
Name CF: #REF!
Name CF: #REF!
Name Crit_Ben: #REF!
Name Crit_Ben: #REF!
Name Crit_Ben: #REF!
Name Crit_Exp: #REF!
Name Crit_Exp: #REF!
Name Crit_Exp: #REF!
Name Crit_Net: #REF!
Name Crit_Net: #REF!
Name Crit_Net: #REF!
Name Crit_OthExp: #REF!
Name Crit_OthExp: #REF!
Name Crit_OthExp: #REF!
Name Crit_Rev: #REF!
Name Crit_Rev: #REF!
Name Crit_Rev: #REF!
Name Crit_SW: #REF!
Name Crit_SW: #REF!
Name Crit_SW: #REF!
Name Crit1: #REF!
Name Crit1: #REF!
Name Crit1: #REF!
Name Crit10: #REF!
Name Crit10: #REF!
Name Crit10: #REF!
Name Crit2: #REF!
Name Crit2: #REF!
Name Crit2: #REF!
Name Crit3: #REF!
Name Crit3: #REF!
Name Crit3: #REF!
Name Crit4: #REF!
Name Crit4: #REF!
Name Crit4: #REF!
Name Crit5: #REF!
Name Crit5: #REF!
Name Crit5: #REF!
Name Crit6: #REF!
Name Crit6: #REF!
Name Crit6: #REF!
Name Crit7: #REF!
Name Crit7: #REF!
Name Crit7: #REF!
Name Crit8: #REF!
Name Crit8: #REF!
Name Crit8: #REF!
Name Crit9: #REF!
Name Crit9: #REF!
Name Crit9: #REF!
Name Dept: #REF!
Name Dept: #REF!
Name Dept: #REF!

Sheet Worksheet Template
A1: CALIFORNIA STATE UNIVERSITY SAN MARCOS
A2: TRUST / SPECIAL PROJECT BUDGET PLAN WORKSHEET
A3: CSUSM (5/2021)
A4: This worksheet is to be used to submit both revenue and expense budgets by account code. Descriptions should be detailed and reflect descriptions of the activity. Multiple revenue sources should be identified separately.
A5: Beginning Fund Balance | L5: Fiscal Year: 2025/26
A6: Revenue through June 30, 2025 | L6: REVENUE | N6: =SUMIF($O$11:$O$10110,L6,$N$11:$N$10110) -> 0
A7: Expense through June 30, 2025 | L7: EXPENSE | N7: =SUMIF($O$11:$O$10110,L7,$N$11:$N$10110) -> 0
A8: Fund Balance at June 30, 2025 | D8: =SUM(D5:D7) -> 0 | L8: NET (INCOME) \ LOSS | N8: =SUM(N6:N7) -> 0
A10: Account | B10: Account Description | C10: Fund | D10: Deptid | E10: Program | F10: Class | G10: Project | H10: Scenario | I10: Position Number | J10: Employee ID | K10: Description | L10: Rate | M10: Frequency | N10: Projection (Revenue)/Expense | O10: Account Type | P10: Account Category | Q10: Class Code Descr
B11: =IFERROR(VLOOKUP(A11,'Account Codes '!$B:$C,2,FALSE)," ") | N11: =IF(NOT(ISBLANK(L11)),L11*M11,"") | O11: =IF(A11="","",IF(LEFT(A11,1)="5","Revenue","Expense")) | P11: =IF(A11="","",VLOOKUP(A11,'Account Codes '!$B$4:$D$263,3,FALSE)) | Q11: =IF(F11="","",VLOOKUP(F11,'Class Codes'!$A$4:$B$1221,2,FALSE))
B12: =IFERROR(VLOOKUP(A12,'Account Codes '!$B:$C,2,FALSE)," ") | N12: =IF(NOT(ISBLANK(L12)),L12*M12,"") | O12: =IF(A12="","",IF(LEFT(A12,1)="5","Revenue","Expense")) | P12: =IF(A12="","",VLOOKUP(A12,'Account Codes '!$B$4:$D$263,3,FALSE)) | Q12: =IF(F12="","",VLOOKUP(F12,'Class Codes'!$A$4:$B$1221,2,FALSE))
B13: =IFERROR(VLOOKUP(A13,'Account Codes '!$B:$C,2,FALSE)," ") | N13: =IF(NOT(ISBLANK(L13)),L13*M13,"") | O13: =IF(A13="","",IF(LEFT(A13,1)="5","Revenue","Expense")) | P13: =IF(A13="","",VLOOKUP(A13,'Account Codes '!$B$4:$D$263,3,FALSE)) | Q13: =IF(F13="","",VLOOKUP(F13,'Class Codes'!$A$4:$B$1221,2,FALSE))
B14: =IFERROR(VLOOKUP(A14,'Account Codes '!$B:$C,2,FALSE)," ") | N14: =IF(NOT(ISBLANK(L14)),L14*M14,"") | O14: =IF(A14="","",IF(LEFT(A14,1)="5","Revenue","Expense")) | P14: =IF(A14="","",VLOOKUP(A14,'Account Codes '!$B$4:$D$263,3,FALSE)) | Q14: =IF(F14="","",VLOOKUP(F14,'Class Codes'!$A$4:$B$1221,2,FALSE))
B15: =IFERROR(VLOOKUP(A15,'Account Codes '!$B:$C,2,FALSE)," ") | N15: =IF(NOT(ISBLANK(L15)),L15*M15,"") | O15: =IF(A15="","",IF(LEFT(A15,1)="5","Revenue","Expense")) | P15: =IF(A15="","",VLOOKUP(A15,'Account Codes '!$B$4:$D$263,3,FALSE)) | Q15: =IF(F15="","",VLOOKUP(F15,'Class Codes'!$A$4:$B$1221,2,FALSE))
B16: =IFERROR(VLOOKUP(A16,'Account Codes '!$B:$C,2,FALSE)," ") | N16: =IF(NOT(ISBLANK(L16)),L16*M16,"") | O16: =IF(A16="","",IF(LEFT(A16,1)="5","Revenue","Expense")) | P16: =IF(A16="","",VLOOKUP(A16,'Account Codes '!$B$4:$D$263,3,FALSE)) | Q16: =IF(F16="","",VLOOKUP(F16,'Class Codes'!$A$4:$B$1221,2,FALSE))
B17: =IFERROR(VLOOKUP(A17,'Account Codes '!$B:$C,2,FALSE)," ") | N17: =IF(NOT(ISBLANK(L17)),L17*M17,"") | O17: =IF(A17="","",IF(LEFT(A17,1)="5","Revenue","Expense")) | P17: =IF(A17="","",VLOOKUP(A17,'Account Codes '!$B$4:$D$263,3,FALSE)) | Q17: =IF(F17="","",VLOOKUP(F17,'Class Codes'!$A$4:$B$1221,2,FALSE))
B18: =IFERROR(VLOOKUP(A18,'Account Codes '!$B:$C,2,FALSE)," ") | N18: =IF(NOT(ISBLANK(L18)),L18*M18,"") | O18: =IF(A18="","",IF(LEFT(A18,1)="5","Revenue","Expense")) | P18: =IF(A18="","",VLOOKUP(A18,'Account Codes '!$B$4:$D$263,3,FALSE)) | Q18: =IF(F18="","",VLOOKUP(F18,'Class Codes'!$A$4:$B$1221,2,FALSE))
B19: =IFERROR(VLOOKUP(A19,'Account Codes '!$B:$C,2,FALSE)," ") | N19: =IF(NOT(ISBLANK(L19)),L19*M19,"") | O19: =IF(A19="","",IF(LEFT(A19,1)="5","Revenue","Expense")) | P19: =IF(A19="","",VLOOKUP(A19,'Account Codes '!$B$4:$D$263,3,FALSE)) | Q19: =IF(F19="","",VLOOKUP(F19,'Class Codes'!$A$4:$B$1221,2,FALSE))
B20: =IFERROR(VLOOKUP(A20,'Account Codes '!$B:$C,2,FALSE)," ") | N20: =IF(NOT(ISBLANK(L20)),L20*M20,"") | O20: =IF(A20="","",IF(LEFT(A20,1)="5","Revenue","Expense")) | P20: =IF(A20="","",VLOOKUP(A20,'Account Codes '!$B$4:$D$263,3,FALSE)) | Q20: =IF(F20="","",VLOOKUP(F20,'Class Codes'!$A$4:$B$1221,2,FALSE))
B21: =IFERROR(VLOOKUP(A21,'Account Codes '!$B:$C,2,FALSE)," ") | N21: =IF(NOT(ISBLANK(L21)),L21*M21,"") | O21: =IF(A21="","",IF(LEFT(A21,1)="5","Revenue","Expense")) | P21: =IF(A21="","",VLOOKUP(A21,'Account Codes '!$B$4:$D$263,3,FALSE)) | Q21: =IF(F21="","",VLOOKUP(F21,'Class Codes'!$A$4:$B$1221,2,FALSE))
B22: =IFERROR(VLOOKUP(A22,'Account Codes '!$B:$C,2,FALSE)," ") | N22: =IF(NOT(ISBLANK(L22)),L22*M22,"") | O22: =IF(A22="","",IF(LEFT(A22,1)="5","Revenue","Expense")) | P22: =IF(A22="","",VLOOKUP(A22,'Account Codes '!$B$4:$D$263,3,FALSE)) | Q22: =IF(F22="","",VLOOKUP(F22,'Class Codes'!$A$4:$B$1221,2,FALSE))
... B10110: =IFERROR(VLOOKUP(A10110,'Account Codes '!$B:$C,2,FALSE)," ") | N10110: =IF(NOT(ISBLANK(L10110)),L10110*M10110,"") | O10110: =IF(A10110="","",IF(LEFT(A10110,1)="5","Revenue","Expense")) | P10110: =IF(A10110="","",VLOOKUP(A10110,'Account Codes '!$B$4:$D$263,3,FALSE)) | Q10110: =IF(F10110="","",VLOOKUP(F10110,'Class Codes'!$A$4:$B$1221,2,FALSE))

Sheet Sample Worksheet
A1: CALIFORNIA STATE UNIVERSITY SAN MARCOS
A2: TRUST / SPECIAL PROJECT BUDGET PLAN WORKSHEET
A3: CSUSM (5/2021)
A4: This worksheet is to be used to submit both revenue and expense budgets by account code. Descriptions should be detailed and reflect descriptions of the activity. Multiple revenue sources should be identified separately.
A5: Beginning Fund Balance | D5: -7892 | L5: Fiscal Year: 2025/2026
A6: Revenue through June 30, 2025 | D6: -240000 | L6: REVENUE | N6: =SUMIF($O$11:$O$10112,L6,$N$11:$N$10112) -> -257700
A7: Expense through June 30, 2025 | D7: 200000 | L7: EXPENSE | N7: =SUMIF($O$11:$O$10112,L7,$N$11:$N$10112) -> 226350
A8: Fund Balance at June 30, 2025 | D8: =SUM(D5:D7) -> -47892 | L8: NET (INCOME) \ LOSS | N8: =SUM(N6:N7) -> -31350
A10: Account | B10: Account Description | C10: Fund | D10: Deptid | E10: Program | F10: Class | G10: Project | H10: Scenario | I10: Position Number | J10: Employee ID | K10: Description | L10: Rate | M10: Frequency | N10: Projection (Revenue)/Expense | O10: Account Type | P10: Account Category | Q10: Class Code Descr
A11: 580005 | B11: =IFERROR(VLOOKUP(A11,'Account Codes '!$B:$C,2,FALSE)," ") -> 580005 - Project Revenue | C11: 45678 | D11: 1234 | H11: OTB | K11: Donations | L11: -550 | M11: 14 | N11: =IF(NOT(ISBLANK(L11)),L11*M11,"") -> -7700 | O11: =IF(A11="","",IF(LEFT(A11,1)="5","Revenue","Expense")) -> Revenue | P11: =IF(A11="","",VLOOKUP(A11,'Account Codes '!$B$4:$D$263,3,FALSE)) -> 580 - Other Financial Sources | Q11: =IF(F11="","",VLOOKUP(F11,'Class Codes'!$A$4:$B$1221,2,FALSE))
A12: 501842 | B12: =IFERROR(VLOOKUP(A12,'Account Codes '!$B:$C,2,FALSE)," ") -> 501842 - Study Abroad Program Fees | C12: 45678 | D12: 1234 | H12: OTB | K12: Program Fee Revenue | L12: -10000 | M12: 25 | N12: =IF(NOT(ISBLANK(L12)),L12*M12,"") -> -250000 | O12: =IF(A12="","",IF(LEFT(A12,1)="5","Revenue","Expense")) -> Revenue | P12: =IF(A12="","",VLOOKUP(A12,'Account Codes '!$B$4:$D$263,3,FALSE)) -> 501 - Higher Education Fees | Q12: =IF(F12="","",VLOOKUP(F12,'Class Codes'!$A$4:$B$1221,2,FALSE))
A13: 601821 | B13: =IFERROR(VLOOKUP(A13,'Account Codes '!$B:$C,2,FALSE)," ") -> 601821 - Salaries SupStf Bonus/All/Stip | C13: 45678 | D13: 1234 | H13: OTB | I13: 00001234 | J13: 150005432 | K13: Jan Jones | L13: 4000 | M13: 9 | N13: =IF(NOT(ISBLANK(L13)),L13*M13,"") -> 36000 | O13: =IF(A13="","",IF(LEFT(A13,1)="5","Revenue","Expense")) -> Expense | P13: =IF(A13="","",VLOOKUP(A13,'Account Codes '!$B$4:$D$263,3,FALSE)) -> 601 - Regular Salaries and Wages
A14: 601821 | B14: =IFERROR(VLOOKUP(A14,'Account Codes '!$B:$C,2,FALSE)," ") -> 601821 - Salaries SupStf Bonus/All/Stip | C14: 45678 | D14: 1234 | H14: OTB | I14: 00005678 | J14: 150009876 | K14: Rand Uhm | L14: 4000 | M14: 12 | N14: =IF(NOT(ISBLANK(L14)),L14*M14,"") -> 48000 | O14: =IF(A14="","",IF(LEFT(A14,1)="5","Revenue","Expense")) -> Expense | P14: =IF(A14="","",VLOOKUP(A14,'Account Codes '!$B$4:$D$263,3,FALSE)) -> 601 - Regular Salaries and Wages
A15: 603004 | B15: =IFERROR(VLOOKUP(A15,'Account Codes '!$B:$C,2,FALSE)," ") -> 603004 - Benefits Health & Welfare | C15: 45678 | D15: 1234 | H15: OTB | K15: Benefits Health & Welfare | L15: 1750 | M15: 9 | N15: =IF(NOT(ISBLANK(L15)),L15*M15,"") -> 15750 | O15: =IF(A15="","",IF(LEFT(A15,1)="5","Revenue","Expense")) -> Expense | P15: =IF(A15="","",VLOOKUP(A15,'Account Codes '!$B$4:$D$263,3,FALSE)) -> 603 - Benefits Group
A16: 603004 | B16: =IFERROR(VLOOKUP(A16,'Account Codes '!$B:$C,2,FALSE)," ") -> 603004 - Benefits Health & Welfare | C16: 45678 | D16: 1234 | H16: OTB | K16: Benefits Health & Welfare | L16: 1750 | M16: 12 | N16: =IF(NOT(ISBLANK(L16)),L16*M16,"") -> 21000 | O16: =IF(A16="","",IF(LEFT(A16,1)="5","Revenue","Expense")) -> Expense | P16: =IF(A16="","",VLOOKUP(A16,'Account Codes '!$B$4:$D$263,3,FALSE)) -> 603 - Benefits Group
A17: 606001 | B17: =IFERROR(VLOOKUP(A17,'Account Codes '!$B:$C,2,FALSE)," ") -> 606001 - Travel-In State | C17: 45678 | D17: 1234 | H17: OTB | K17: Coordinator Meeting CO | L17: 250 | M17: 1 | N17: =IF(NOT(ISBLANK(L17)),L17*M17,"") -> 250 | O17: =IF(A17="","",IF(LEFT(A17,1)="5","Revenue","Expense")) -> Expense | P17: =IF(A17="","",VLOOKUP(A17,'Account Codes '!$B$4:$D$263,3,FALSE)) -> 606 - Travel
A18: 606002 | B18: =IFERROR(VLOOKUP(A18,'Account Codes '!$B:$C,2,FALSE)," ") -> 606002 - Travel-Out of State | C18: 45678 | D18: 1234 | H18: OTB | K18: John Smith Site Visit/Conference | L18: 3000 | M18: 1 | N18: =IF(NOT(ISBLANK(L18)),L18*M18,"") -> 3000 | O18: =IF(A18="","",IF(LEFT(A18,1)="5","Revenue","Expense")) -> Expense | P18: =IF(A18="","",VLOOKUP(A18,'Account Codes '!$B$4:$D$263,3,FALSE)) -> 606 - Travel
A19: 606002 | B19: =IFERROR(VLOOKUP(A19,'Account Codes '!$B:$C,2,FALSE)," ") -> 606002 - Travel-Out of State | C19: 45678 | D19: 1234 | H19: OTB | K19: Staff Travel ABC Conference | L19: 2000 | M19: 1 | N19: =IF(NOT(ISBLANK(L19)),L19*M19,"") -> 2000 | O19: =IF(A19="","",IF(LEFT(A19,1)="5","Revenue","Expense")) -> Expense | P19: =IF(A19="","",VLOOKUP(A19,'Account Codes '!$B$4:$D$263,3,FALSE)) -> 606 - Travel
A20: 660002 | B20: =IFERROR(VLOOKUP(A20,'Account Codes '!$B:$C,2,FALSE)," ") -> 660002 - Printing | C20: 45678 | D20: 1234 | H20: OTB | K20: Posters for New Student Program | L20: 15 | M20: 50 | N20: =IF(NOT(ISBLANK(L20)),L20*M20,"") -> 750 | O20: =IF(A20="","",IF(LEFT(A20,1)="5","Revenue","Expense")) -> Expense | P20: =IF(A20="","",VLOOKUP(A20,'Account Codes '!$B$4:$D$263,3,FALSE)) -> 660 - Misc. Operating Expenses
A21: 660003 | B21: =IFERROR(VLOOKUP(A21,'Account Codes '!$B:$C,2,FALSE)," ") -> 660003 - SupSrv Other | C21: 45678 | D21: 1234 | H21: OTB | K21: General Office Supplies | L21: 50 | M21: 12 | N21: =IF(NOT(ISBLANK(L21)),L21*M21,"") -> 600 | O21: =IF(A21="","",IF(LEFT(A21,1)="5","Revenue","Expense")) -> Expense | P21: =IF(A21="","",VLOOKUP(A21,'Account Codes '!$B$4:$D$263,3,FALSE)) -> 660 - Misc. Operating Expenses
A22: 660003 | B22: =IFERROR(VLOOKUP(A22,'Account Codes '!$B:$C,2,FALSE)," ") -> 660003 - SupSrv Other | C22: 45678 | D22: 1234 | H22: OEN | K22: RENAISSANC-003 PO#0000012345 | L22: 9000 | M22: 1 | N22: =IF(NOT(ISBLANK(L22)),L22*M22,"") -> 9000 | O22: =IF(A22="","",IF(LEFT(A22,1)="5","Revenue","Expense")) -> Expense | P22: =IF(A22="","",VLOOKUP(A22,'Account Codes '!$B$4:$D$263,3,FALSE)) -> 660 - Misc. Operating Expenses | S22: <--- Encumbrance Example
A23: 601300 | B23: =IFERROR(VLOOKUP(A23,'Account Codes '!$B:$C,2,FALSE)," ") -> 601300 - Salaries Support Staff | C23: 45678 | D23: 1234 | E23: 4020 | H23: OTB | I23: 00009854 | J23: 123456789 | K23: Job Title VSIP Salary | L23: 5000 | M23: 12 | N23: =IF(NOT(ISBLANK(L23)),L23*M23,"") -> 60000 | O23: =IF(A23="","",IF(LEFT(A23,1)="5","Revenue","Expense")) -> Expense | P23: =IF(A23="","",VLOOKUP(A23,'Account Codes '!$B$4:$D$263,3,FALSE)) -> 601 - Regular Salaries and Wages | S23: <--- VSIP Example
A24: 601300 | B24: =IFERROR(VLOOKUP(A24,'Account Codes '!$B:$C,2,FALSE)," ") -> 601300 - Salaries Support Staff | C24: 45678 | D24: 1234 | E24: 4020 | H24: OSS | I24: 00009854 | J24: 123456789 | K24: Job Title VSIP Salary | L24: -5000 | M24: 12 | N24: =IF(NOT(ISBLANK(L24)),L24*M24,"") -> -60000 | O24: =IF(A24="","",IF(LEFT(A24,1)="5","Revenue","Expense")) -> Expense | P24: =IF(A24="","",VLOOKUP(A24,'Account Codes '!$B$4:$D$263,3,FALSE)) -> 601 - Regular Salaries and Wages
A25: 601300 | B25: =IFERROR(VLOOKUP(A25,'Account Codes '!$B:$C,2,FALSE)," ") -> 601300 - Salaries Support Staff | C25: 45678 | D25: 1234 | E25: 4019 | H25: OSS | I25: 00005678 | J25: 150009876 | K25: Job Title VSIP Vacation Payout | L25: 2310 | M25: 1 | N25: =IF(NOT(ISBLANK(L25)),L25*M25,"") -> 2310 | O25: =IF(A25="","",IF(LEFT(A25,1)="5","Revenue","Expense")) -> Expense | P25: =IF(A25="","",VLOOKUP(A25,'Account Codes '!$B$4:$D$263,3,FALSE)) -> 601 - Regular Salaries and Wages
A26: 603025 | B26: =IFERROR(VLOOKUP(A26,'Account Codes '!$B:$C,2,FALSE)," ") -> 603025 - Benefits Early Retirement Prog | C26: 45678 | D26: 1234 | E26: 4019 | H26: OSS | I26: 00005678 | J26: 150009876 | K26: Job Title VSIP Severance Payout | L26: 20000 | M26: 1 | N26: =IF(NOT(ISBLANK(L26)),L26*M26,"") -> 20000 | O26: =IF(A26="","",IF(LEFT(A26,1)="5","Revenue","Expense")) -> Expense | P26: =IF(A26="","",VLOOKUP(A26,'Account Codes '!$B$4:$D$263,3,FALSE)) -> 603 - Benefits Group
A27: 601300 | B27: =IFERROR(VLOOKUP(A27,'Account Codes '!$B:$C,2,FALSE)," ") -> 601300 - Salaries Support Staff | C27: 45678 | D27: 1234 | E27: 4020 | H27: OSS | I27: 00005678 | J27: 150009876 | K27: Rand Uhm - Additional Responsibilities | L27: 400 | M27: 12 | N27: =IF(NOT(ISBLANK(L27)),L27*M27,"") -> 4800 | O27: =IF(A27="","",IF(LEFT(A27,1)="5","Revenue","Expense")) -> Expense | P27: =IF(A27="","",VLOOKUP(A27,'Account Codes '!$B$4:$D$263,3,FALSE)) -> 601 - Regular Salaries and Wages
A28: 601300 | B28: =IFERROR(VLOOKUP(A28,'Account Codes '!$B:$C,2,FALSE)," ") -> 601300 - Salaries Support Staff | C28: 45678 | D28: 1234 | E28: 4020 | H28: OSS | I28: 00005678 | J28: 150009876 | K28: Jan Jones - Additional Responsibilities | L28: 400 | M28: 9 | N28: =IF(NOT(ISBLANK(L28)),L28*M28,"") -> 3600 | O28: =IF(A28="","",IF(LEFT(A28,1)="5","Revenue","Expense")) -> Expense | P28: =IF(A28="","",VLOOKUP(A28,'Account Codes '!$B$4:$D$263,3,FALSE)) -> 601 - Regular Salaries and Wages
A29: 660090 | B29: =IFERROR(VLOOKUP(A29,'Account Codes '!$B:$C,2,FALSE)," ") -> 660090 - Other Expense | C29: 45678 | D29: 1234 | E29: 4020 | H29: OSS | K29: Job Title Anticipated VSIP Savings | L29: =28090+1200 -> 29290 | M29: 1 | N29: =IF(NOT(ISBLANK(L29)),L29*M29,"") -> 29290 | O29: =IF(A29="","",IF(LEFT(A29,1)="5","Revenue","Expense")) -> Expense | P29: =IF(A29="","",VLOOKUP(A29,'Account Codes '!$B$4:$D$263,3,FALSE)) -> 660 - Misc. Operating Expenses
A30: 603090 | B30: =IFERROR(VLOOKUP(A30,'Account Codes '!$B:$C,2,FALSE)," ") -> 603090 - Benefits - Other | C30: 45678 | D30: 1234 | E30: 4020 | H30: OTB | I30: 00009854 | J30: 123456789 | K30: Job Title VSIP Benefits | L30: 2500 | M30: 12 | N30: =IF(NOT(ISBLANK(L30)),L30*M30,"") -> 30000 | O30: =IF(A30="","",IF(LEFT(A30,1)="5","Revenue","Expense")) -> Expense | P30: =IF(A30="","",VLOOKUP(A30,'Account Codes '!$B$4:$D$263,3,FALSE)) -> 603 - Benefits Group
A31: 603090 | B31: =IFERROR(VLOOKUP(A31,'Account Codes '!$B:$C,2,FALSE)," ") -> 603090 - Benefits - Other | C31: 45678 | D31: 1234 | E31: 4020 | H31: OSS | I31: 00009854 | J31: 123456789 | K31: Job Title VSIP Benefits | L31: -2500 | M31: 12 | N31: =IF(NOT(ISBLANK(L31)),L31*M31,"") -> -30000 | O31: =IF(A31="","",IF(LEFT(A31,1)="5","Revenue","Expense")) -> Expense | P31: =IF(A31="","",VLOOKUP(A31,'Account Codes '!$B$4:$D$263,3,FALSE)) -> 603 - Benefits Group
A32: 660090 | B32: =IFERROR(VLOOKUP(A32,'Account Codes '!$B:$C,2,FALSE)," ") -> 660090 - Other Expense | C32: 45678 | D32: 1234 | E32: 4020 | H32: OSS | K32: Job Title Anticipated VSIP Savings | L32: 30000 | M32: 1 | N32: =IF(NOT(ISBLANK(L32)),L32*M32,"") -> 30000 | O32: =IF(A32="","",IF(LEFT(A32,1)="5","Revenue","Expense")) -> Expense | P32: =IF(A32="","",VLOOKUP(A32,'Account Codes '!$B$4:$D$263,3,FALSE)) -> 660 - Misc. Operating Expenses
O33: =IF(A33="","",IF(LEFT(A33,1)="5","Revenue","Expense")) | P33: =IF(A33="","",VLOOKUP(A33,'Account Codes '!$B$4:$D$263,3,FALSE)) | Q33: =IF(F33="","",VLOOKUP(F33,'Class Codes'!$A$4:$B$1221,2,FALSE))
O34: =IF(A34="","",IF(LEFT(A34,1)="5","Revenue","Expense")) | P34: =IF(A34="","",VLOOKUP(A34,'Account Codes '!$B$4:$D$263,3,FALSE)) | Q34: =IF(F34="","",VLOOKUP(F34,'Class Codes'!$A$4:$B$1221,2,FALSE))
O35: =IF(A35="","",IF(LEFT(A35,1)="5","Revenue","Expense")) | P35: =IF(A35="","",VLOOKUP(A35,'Account Codes '!$B$4:$D$263,3,FALSE)) | Q35: =IF(F35="","",VLOOKUP(F35,'Class Codes'!$A$4:$B$1221,2,FALSE))
O36: =IF(A36="","",IF(LEFT(A36,1)="5","Revenue","Expense")) | P36: =IF(A36="","",VLOOKUP(A36,'Account Codes '!$B$4:$D$263,3,FALSE)) | Q36: =IF(F36="","",VLOOKUP(F36,'Class Codes'!$A$4:$B$1221,2,FALSE))
O37: =IF(A37="","",IF(LEFT(A37,1)="5","Revenue","Expense")) | P37: =IF(A37="","",VLOOKUP(A37,'Account Codes '!$B$4:$D$263,3,FALSE)) | Q37: =IF(F37="","",VLOOKUP(F37,'Class Codes'!$A$4:$B$1221,2,FALSE))
O38: =IF(A38="","",IF(LEFT(A38,1)="5","Revenue","Expense")) | P38: =IF(A38="","",VLOOKUP(A38,'Account Codes '!$B$4:$D$263,3,FALSE)) | Q38: =IF(F38="","",VLOOKUP(F38,'Class Codes'!$A$4:$B$1221,2,FALSE))
O39: =IF(A39="","",IF(LEFT(A39,1)="5","Revenue","Expense")) | P39: =IF(A39="","",VLOOKUP(A39,'Account Codes '!$B$4:$D$263,3,FALSE))
O40: =IF(A40="","",IF(LEFT(A40,1)="5","Revenue","Expense")) | P40: =IF(A40="","",VLOOKUP(A40,'Account Codes '!$B$4:$D$263,3,FALSE))
O41: =IF(A41="","",IF(LEFT(A41,1)="5","Revenue","Expense")) | P41: =IF(A41="","",VLOOKUP(A41,'Account Codes '!$B$4:$D$263,3,FALSE))
...

Sheet Scenarios
A1: Scenario | B1: Description
A2: OEN – One-time Encumbrance | B2: • Post encumbrance reserve at the beginning of the fiscal year and purchase orders rolling forward from the prior year.
A3: OSS - One-Time Salary Savings | B3: • Used in the initial budget submission only. • Identifies uses of VSIP salary savings • Salary savings sources can be entered as a negative amount using the same account number as the salary expense being reimbursed. • Salary savings uses can be entered using the OSS scenario and a positive amount. • OSS should net to $0.
A4: OTB - One-time Budget | B4: • Used in the initial budget submission. • Represents any initial budgets being allocated one-time.

Sheet Class Codes
A1: Class Code and Description
A3: Class | B3: Class Codes Descr
A4: 00000 | B4: 00000 - DO NOT USE
A5: 00101 | B5: 00101 - Academic Recources UAW
A6: 00102 | B6: 00102 - Acad Res American Democracy Pr
A7: 00103 | B7: 00103 - Staff Appreciation & Devlpmnt
A8: 00104 | B8: 00104 - Child Care & Family Center
A9: 00201 | B9: 00201 - Academic Senate Travel
A10: 00201 | B10: 00201 - Pool Tables/Billiards
A11: 00202 | B11: 00202 - Video Games
A12: 00203 | B12: 00203 - Hockey
A13: 00204 | B13: 00204 - Foosball
A14: 00205 | B14: 00205 - Excursion
... A1220: 51405 | B1220: 51405 - Fin Only-CSM Non-Instruction O
A1221: 10000 | B1221: 10000 - DO NOT USE

Sheet Account Codes 
B1: Account Code and Description
B3: Account | C3: Account Descr | D3: Account Category
B4: 101100 | C4: 101100 - Cash Short Term Investments | D4: DO NOT USE
B5: 501842 | C5: 501842 - Study Abroad Program Fees | D5: 501 - Higher Education Fees
B6: 502101 | C6: 502101 - Cont Ed Spec Sessions Degree | D6: 502 - PaCE Fees
B7: 502103 | C7: 502103 - Cont Ed Spec Sessions Contract | D7: 502 - PaCE Fees
B8: 502104 | C8: 502104 - Cont Ed Open University | D8: 502 - PaCE Fees
B9: 502105 | C9: 502105 - Cont Ed Spec Sessions Other | D9: 502 - PaCE Fees
B10: 502201 | C10: 502201 - Cont Ed Regular Extension | D10: 502 - PaCE Fees
B11: 502202 | C11: 502202 - Cont Ed Contract Extension | D11: 502 - PaCE Fees
B12: 502301 | C12: 502301 - Cont Ed Non-Credit | D12: 502 - PaCE Fees
B13: 502400 | C13: 502400 - Cont Ed Contra Rev | D13: 502 - PaCE Fees
B14: 502801 | C14: 502801 - Cont Ed Extension Refund | D14: 502 - PaCE Fees
B15: 502803 | C15: 502803 - Cont Ed Spec Sess Deg Summer | D15: 502 - PaCE Fees
... B263: 999999 | C263: 999999 - Suspense | D263: DO NOT USE
