Workbook
Name List_of_Specialized_Rooms: 'Approval List'!$D$1:$D$58
Name Raw_Data_4PT: Results!$A$1:$Z$189
Name Slicer_Audit_Result: #N/A
Name Table_for_Approval: 'Approval List'!$A$1:$B$851

Sheet Directions
A1: Directions for Run
A3: 1 | B3: Run the Query "SMO_SEA_APRV_TIMES" in the ACDSCHED Query Folder in PeopleSoft
B4: Open that query file
A6: 2 | B6: On the "Paste Query" tab, delete any/all values. If no values are there, go to step 3 directly.
A8: 3 | B8: In the PSoft query you have run & is open, copy ALL values (Ctrl+A to select All & Ctrl+C to copy), then paste into the "Paste Query" tab (make sure you click on cell A1 first, then paste)
A10: 4 | B10: On the "Results" tab - the last column will show whether it is approved, may be approved, or is not approved. Please review the Maybe Approved and the Not Approved values.
A12: 5 | B12: On the "Smry of Audit Results" tab, right-click within the table and select Refresh.
B13: The table will then show a summary of the Audit Results. Click on the value you wish to see at the top.
A15: NOTE: | B15: If there are any times that appear as Not Approved that are in the Approved Class Meeting Times list, please let Sally Serrin Melena (sserrin@csusm.edu) know ASAP. Thank you!

Sheet Paste Query

Sheet Results
A1: Subject | B1: Catalog | C1: Section | D1: Class Nbr | E1: Descr | F1: Component | G1: Enrl Type | H1: Assoc | I1: Combined | J1: Class Status | K1: Instr Mode | L1: Pref Name | M1: RqRmSz | N1: Cap | O1: Enrl | P1: Facil ID | Q1: RmSz | R1: Session | S1: PLAN | T1: CS | U1: Comp Units | V1: MP Nbr | W1: Day(s) | X1: Start | Y1: End | Z1: Audit Result
A2: ='Paste Query'!D3 -> 0 | B2: ='Paste Query'!E3 -> 0 | C2: ='Paste Query'!F3 -> 0 | D2: ='Paste Query'!G3 -> 0 | E2: ='Paste Query'!H3 -> 0 | F2: ='Paste Query'!I3 -> 0 | G2: ='Paste Query'!J3 -> 0 | H2: ='Paste Query'!K3 -> 0 | ... Y2: ='Paste Query'!AB3 -> 0 | Z2: =IF(A2 = "", "", IF(P2 = "VIRTUAL AS", "Approved", IF(COUNTIF(List_of_Specialized_Rooms, P2) > 0, "Approved", IFERROR(VLOOKUP(W2& " " &TEXT(X2,"h:mm AM/PM") & " - " & TEXT(Y2,"h:mm AM/PM"),Table_for_Approval,2, FALSE),"Not Approved")))) -> Not Approved
A3: ='Paste Query'!D4 -> 0 | B3: ='Paste Query'!E4 -> 0 | C3: ='Paste Query'!F4 -> 0 | D3: ='Paste Query'!G4 -> 0 | E3: ='Paste Query'!H4 -> 0 | F3: ='Paste Query'!I4 -> 0 | G3: ='Paste Query'!J4 -> 0 | H3: ='Paste Query'!K4 -> 0 | ... Y3: ='Paste Query'!AB4 -> 0 | Z3: =IF(A3 = "", "", IF(P3 = "VIRTUAL AS", "Approved", IF(COUNTIF(List_of_Specialized_Rooms, P3) > 0, "Approved", IFERROR(VLOOKUP(W3& " " &TEXT(X3,"h:mm AM/PM") & " - " & TEXT(Y3,"h:mm AM/PM"),Table_for_Approval,2, FALSE),"Not Approved")))) -> Not Approved
A4: ='Paste Query'!D5 -> 0 | B4: ='Paste Query'!E5 -> 0 | C4: ='Paste Query'!F5 -> 0 | D4: ='Paste Query'!G5 -> 0 | E4: ='Paste Query'!H5 -> 0 | F4: ='Paste Query'!I5 -> 0 | G4: ='Paste Query'!J5 -> 0 | H4: ='Paste Query'!K5 -> 0 | ... Y4: ='Paste Query'!AB5 -> 0 | Z4: =IF(OR(A4 = "", A4 = 0), "", IF(P4 = "VIRTUAL AS", "Approved", IF(COUNTIF(List_of_Specialized_Rooms, P4) > 0, "Approved", IFERROR(VLOOKUP(W4 & " " & TEXT(X4,"h:mm AM/PM") & " - " & TEXT(Y4,"h:mm AM/PM"), Table_for_Approval, 2, FALSE), "Not Approved"))))
A5: ='Paste Query'!D6 -> 0 | B5: ='Paste Query'!E6 -> 0 | C5: ='Paste Query'!F6 -> 0 | D5: ='Paste Query'!G6 -> 0 | E5: ='Paste Query'!H6 -> 0 | F5: ='Paste Query'!I6 -> 0 | G5: ='Paste Query'!J6 -> 0 | H5: ='Paste Query'!K6 -> 0 | ... Y5: ='Paste Query'!AB6 -> 0 | Z5: =IF(OR(A5 = "", A5 = 0), "", IF(P5 = "VIRTUAL AS", "Approved", IF(COUNTIF(List_of_Specialized_Rooms, P5) > 0, "Approved", IFERROR(VLOOKUP(W5 & " " & TEXT(X5,"h:mm AM/PM") & " - " & TEXT(Y5,"h:mm AM/PM"), Table_for_Approval, 2, FALSE), "Not Approved"))))
A6: ='Paste Query'!D7 -> 0 | B6: ='Paste Query'!E7 -> 0 | C6: ='Paste Query'!F7 -> 0 | D6: ='Paste Query'!G7 -> 0 | E6: ='Paste Query'!H7 -> 0 | F6: ='Paste Query'!I7 -> 0 | G6: ='Paste Query'!J7 -> 0 | H6: ='Paste Query'!K7 -> 0 | ... Y6: ='Paste Query'!AB7 -> 0 | Z6: =IF(OR(A6 = "", A6 = 0), "", IF(P6 = "VIRTUAL AS", "Approved", IF(COUNTIF(List_of_Specialized_Rooms, P6) > 0, "Approved", IFERROR(VLOOKUP(W6 & " " & TEXT(X6,"h:mm AM/PM") & " - " & TEXT(Y6,"h:mm AM/PM"), Table_for_Approval, 2, FALSE), "Not Approved"))))
A7: ='Paste Query'!D8 -> 0 | B7: ='Paste Query'!E8 -> 0 | C7: ='Paste Query'!F8 -> 0 | D7: ='Paste Query'!G8 -> 0 | E7: ='Paste Query'!H8 -> 0 | F7: ='Paste Query'!I8 -> 0 | G7: ='Paste Query'!J8 -> 0 | H7: ='Paste Query'!K8 -> 0 | ... Y7: ='Paste Query'!AB8 -> 0 | Z7: =IF(OR(A7 = "", A7 = 0), "", IF(P7 = "VIRTUAL AS", "Approved", IF(COUNTIF(List_of_Specialized_Rooms, P7) > 0, "Approved", IFERROR(VLOOKUP(W7 & " " & TEXT(X7,"h:mm AM/PM") & " - " & TEXT(Y7,"h:mm AM/PM"), Table_for_Approval, 2, FALSE), "Not Approved"))))
A8: ='Paste Query'!D9 -> 0 | B8: ='Paste Query'!E9 -> 0 | C8: ='Paste Query'!F9 -> 0 | D8: ='Paste Query'!G9 -> 0 | E8: ='Paste Query'!H9 -> 0 | F8: ='Paste Query'!I9 -> 0 | G8: ='Paste Query'!J9 -> 0 | H8: ='Paste Query'!K9 -> 0 | ... Y8: ='Paste Query'!AB9 -> 0 | Z8: =IF(OR(A8 = "", A8 = 0), "", IF(P8 = "VIRTUAL AS", "Approved", IF(COUNTIF(List_of_Specialized_Rooms, P8) > 0, "Approved", IFERROR(VLOOKUP(W8 & " " & TEXT(X8,"h:mm AM/PM") & " - " & TEXT(Y8,"h:mm AM/PM"), Table_for_Approval, 2, FALSE), "Not Approved"))))
A9: ='Paste Query'!D10 -> 0 | B9: ='Paste Query'!E10 -> 0 | C9: ='Paste Query'!F10 -> 0 | D9: ='Paste Query'!G10 -> 0 | E9: ='Paste Query'!H10 -> 0 | F9: ='Paste Query'!I10 -> 0 | G9: ='Paste Query'!J10 -> 0 | H9: ='Paste Query'!K10 -> 0 | ... Y9: ='Paste Query'!AB10 -> 0 | Z9: =IF(OR(A9 = "", A9 = 0), "", IF(P9 = "VIRTUAL AS", "Approved", IF(COUNTIF(List_of_Specialized_Rooms, P9) > 0, "Approved", IFERROR(VLOOKUP(W9 & " " & TEXT(X9,"h:mm AM/PM") & " - " & TEXT(Y9,"h:mm AM/PM"), Table_for_Approval, 2, FALSE), "Not Approved"))))
A10: ='Paste Query'!D11 -> 0 | B10: ='Paste Query'!E11 -> 0 | C10: ='Paste Query'!F11 -> 0 | D10: ='Paste Query'!G11 -> 0 | E10: ='Paste Query'!H11 -> 0 | F10: ='Paste Query'!I11 -> 0 | G10: ='Paste Query'!J11 -> 0 | H10: ='Paste Query'!K11 -> 0 | ... Y10: ='Paste Query'!AB11 -> 0 | Z10: =IF(OR(A10 = "", A10 = 0), "", IF(P10 = "VIRTUAL AS", "Approved", IF(COUNTIF(List_of_Specialized_Rooms, P10) > 0, "Approved", IFERROR(VLOOKUP(W10 & " " & TEXT(X10,"h:mm AM/PM") & " - " & TEXT(Y10,"h:mm AM/PM"), Table_for_Approval, 2, FALSE), "Not Approved"))))
A11: ='Paste Query'!D12 -> 0 | B11: ='Paste Query'!E12 -> 0 | C11: ='Paste Query'!F12 -> 0 | D11: ='Paste Query'!G12 -> 0 | E11: ='Paste Query'!H12 -> 0 | F11: ='Paste Query'!I12 -> 0 | G11: ='Paste Query'!J12 -> 0 | H11: ='Paste Query'!K12 -> 0 | ... Y11: ='Paste Query'!AB12 -> 0 | Z11: =IF(OR(A11 = "", A11 = 0), "", IF(P11 = "VIRTUAL AS", "Approved", IF(COUNTIF(List_of_Specialized_Rooms, P11) > 0, "Approved", IFERROR(VLOOKUP(W11 & " " & TEXT(X11,"h:mm AM/PM") & " - " & TEXT(Y11,"h:mm AM/PM"), Table_for_Approval, 2, FALSE), "Not Approved"))))
A12: ='Paste Query'!D13 -> 0 | B12: ='Paste Query'!E13 -> 0 | C12: ='Paste Query'!F13 -> 0 | D12: ='Paste Query'!G13 -> 0 | E12: ='Paste Query'!H13 -> 0 | F12: ='Paste Query'!I13 -> 0 | G12: ='Paste Query'!J13 -> 0 | H12: ='Paste Query'!K13 -> 0 | ... Y12: ='Paste Query'!AB13 -> 0 | Z12: =IF(OR(A12 = "", A12 = 0), "", IF(P12 = "VIRTUAL AS", "Approved", IF(COUNTIF(List_of_Specialized_Rooms, P12) > 0, "Approved", IFERROR(VLOOKUP(W12 & " " & TEXT(X12,"h:mm AM/PM") & " - " & TEXT(Y12,"h:mm AM/PM"), Table_for_Approval, 2, FALSE), "Not Approved"))))
A13: ='Paste Query'!D14 -> 0 | B13: ='Paste Query'!E14 -> 0 | C13: ='Paste Query'!F14 -> 0 | D13: ='Paste Query'!G14 -> 0 | E13: ='Paste Query'!H14 -> 0 | F13: ='Paste Query'!I14 -> 0 | G13: ='Paste Query'!J14 -> 0 | H13: ='Paste Query'!K14 -> 0 | ... Y13: ='Paste Query'!AB14 -> 0 | Z13: =IF(OR(A13 = "", A13 = 0), "", IF(P13 = "VIRTUAL AS", "Approved", IF(COUNTIF(List_of_Specialized_Rooms, P13) > 0, "Approved", IFERROR(VLOOKUP(W13 & " " & TEXT(X13,"h:mm AM/PM") & " - " & TEXT(Y13,"h:mm AM/PM"), Table_for_Approval, 2, FALSE), "Not Approved"))))
A14: ='Paste Query'!D15 -> 0 | B14: ='Paste Query'!E15 -> 0 | C14: ='Paste Query'!F15 -> 0 | D14: ='Paste Query'!G15 -> 0 | E14: ='Paste Query'!H15 -> 0 | F14: ='Paste Query'!I15 -> 0 | G14: ='Paste Query'!J15 -> 0 | H14: ='Paste Query'!K15 -> 0 | ... Y14: ='Paste Query'!AB15 -> 0 | Z14: =IF(OR(A14 = "", A14 = 0), "", IF(P14 = "VIRTUAL AS", "Approved", IF(COUNTIF(List_of_Specialized_Rooms, P14) > 0, "Approved", IFERROR(VLOOKUP(W14 & " " & TEXT(X14,"h:mm AM/PM") & " - " & TEXT(Y14,"h:mm AM/PM"), Table_for_Approval, 2, FALSE), "Not Approved"))))
A15: ='Paste Query'!D16 -> 0 | B15: ='Paste Query'!E16 -> 0 | C15: ='Paste Query'!F16 -> 0 | D15: ='Paste Query'!G16 -> 0 | E15: ='Paste Query'!H16 -> 0 | F15: ='Paste Query'!I16 -> 0 | G15: ='Paste Query'!J16 -> 0 | H15: ='Paste Query'!K16 -> 0 | ... Y15: ='Paste Query'!AB16 -> 0 | Z15: =IF(OR(A15 = "", A15 = 0), "", IF(P15 = "VIRTUAL AS", "Approved", IF(COUNTIF(List_of_Specialized_Rooms, P15) > 0, "Approved", IFERROR(VLOOKUP(W15 & " " & TEXT(X15,"h:mm AM/PM") & " - " & TEXT(Y15,"h:mm AM/PM"), Table_for_Approval, 2, FALSE), "Not Approved"))))
... A192: ='Paste Query'!D193 -> 0 | B192: ='Paste Query'!E193 -> 0 | C192: ='Paste Query'!F193 -> 0 | D192: ='Paste Query'!G193 -> 0 | E192: ='Paste Query'!H193 -> 0 | F192: ='Paste Query'!I193 -> 0 | G192: ='Paste Query'!J193 -> 0 | H192: ='Paste Query'!K193 -> 0 | ... Y192: ='Paste Query'!AB193 -> 0 | Z192: =IF(OR(A192 = "", A192 = 0), "", IF(P192 = "VIRTUAL AS", "Approved", IF(COUNTIF(List_of_Specialized_Rooms, P192) > 0, "Approved", IFERROR(VLOOKUP(W192 & " " & TEXT(X192,"h:mm AM/PM") & " - " & TEXT(Y192,"h:mm AM/PM"), Table_for_Approval, 2, FALSE), "Not Approved"))))
A193: ='Paste Query'!D3087 -> 0 | B193: ='Paste Query'!E3087 -> 0 | C193: ='Paste Query'!F3087 -> 0 | D193: ='Paste Query'!G3087 -> 0 | E193: ='Paste Query'!H3087 -> 0 | F193: ='Paste Query'!I3087 -> 0 | G193: ='Paste Query'!J3087 -> 0 | H193: ='Paste Query'!K3087 -> 0 | ... Y193: ='Paste Query'!AB3087 -> 0 | Z193: =IF(OR(A193 = "", A193 = 0), "", IF(P193 = "VIRTUAL AS", "Approved", IF(COUNTIF(List_of_Specialized_Rooms, P193) > 0, "Approved", IFERROR(VLOOKUP(W193 & " " & TEXT(X193,"h:mm AM/PM") & " - " & TEXT(Y193,"h:mm AM/PM"), Table_for_Approval, 2, FALSE), "Not Approved"))))
A194: ='Paste Query'!D195 -> 0 | B194: ='Paste Query'!E195 -> 0 | C194: ='Paste Query'!F195 -> 0 | D194: ='Paste Query'!G195 -> 0 | E194: ='Paste Query'!H195 -> 0 | F194: ='Paste Query'!I195 -> 0 | G194: ='Paste Query'!J195 -> 0 | H194: ='Paste Query'!K195 -> 0 | ... Y194: ='Paste Query'!AB195 -> 0 | Z194: =IF(OR(A194 = "", A194 = 0), "", IF(P194 = "VIRTUAL AS", "Approved", IF(COUNTIF(List_of_Specialized_Rooms, P194) > 0, "Approved", IFERROR(VLOOKUP(W194 & " " & TEXT(X194,"h:mm AM/PM") & " - " & TEXT(Y194,"h:mm AM/PM"), Table_for_Approval, 2, FALSE), "Not Approved"))))
A195: ='Paste Query'!D196 -> 0 | B195: ='Paste Query'!E196 -> 0 | C195: ='Paste Query'!F196 -> 0 | D195: ='Paste Query'!G196 -> 0 | E195: ='Paste Query'!H196 -> 0 | F195: ='Paste Query'!I196 -> 0 | G195: ='Paste Query'!J196 -> 0 | H195: ='Paste Query'!K196 -> 0 | ... Y195: ='Paste Query'!AB196 -> 0 | Z195: =IF(OR(A195 = "", A195 = 0), "", IF(P195 = "VIRTUAL AS", "Approved", IF(COUNTIF(List_of_Specialized_Rooms, P195) > 0, "Approved", IFERROR(VLOOKUP(W195 & " " & TEXT(X195,"h:mm AM/PM") & " - " & TEXT(Y195,"h:mm AM/PM"), Table_for_Approval, 2, FALSE), "Not Approved"))))
A196: ='Paste Query'!D3119 -> 0 | B196: ='Paste Query'!E3119 -> 0 | C196: ='Paste Query'!F3119 -> 0 | D196: ='Paste Query'!G3119 -> 0 | E196: ='Paste Query'!H3119 -> 0 | F196: ='Paste Query'!I3119 -> 0 | G196: ='Paste Query'!J3119 -> 0 | H196: ='Paste Query'!K3119 -> 0 | ... Y196: ='Paste Query'!AB3119 -> 0 | Z196: =IF(OR(A196 = "", A196 = 0), "", IF(P196 = "VIRTUAL AS", "Approved", IF(COUNTIF(List_of_Specialized_Rooms, P196) > 0, "Approved", IFERROR(VLOOKUP(W196 & " " & TEXT(X196,"h:mm AM/PM") & " - " & TEXT(Y196,"h:mm AM/PM"), Table_for_Approval, 2, FALSE), "Not Approved"))))
A197: ='Paste Query'!D198 -> 0 | B197: ='Paste Query'!E198 -> 0 | C197: ='Paste Query'!F198 -> 0 | D197: ='Paste Query'!G198 -> 0 | E197: ='Paste Query'!H198 -> 0 | F197: ='Paste Query'!I198 -> 0 | G197: ='Paste Query'!J198 -> 0 | H197: ='Paste Query'!K198 -> 0 | ... Y197: ='Paste Query'!AB198 -> 0 | Z197: =IF(OR(A197 = "", A197 = 0), "", IF(P197 = "VIRTUAL AS", "Approved", IF(COUNTIF(List_of_Specialized_Rooms, P197) > 0, "Approved", IFERROR(VLOOKUP(W197 & " " & TEXT(X197,"h:mm AM/PM") & " - " & TEXT(Y197,"h:mm AM/PM"), Table_for_Approval, 2, FALSE), "Not Approved"))))
A198: ='Paste Query'!D199 -> 0 | B198: ='Paste Query'!E199 -> 0 | C198: ='Paste Query'!F199 -> 0 | D198: ='Paste Query'!G199 -> 0 | E198: ='Paste Query'!H199 -> 0 | F198: ='Paste Query'!I199 -> 0 | G198: ='Paste Query'!J199 -> 0 | H198: ='Paste Query'!K199 -> 0 | ... Y198: ='Paste Query'!AB199 -> 0 | Z198: =IF(OR(A198 = "", A198 = 0), "", IF(P198 = "VIRTUAL AS", "Approved", IF(COUNTIF(List_of_Specialized_Rooms, P198) > 0, "Approved", IFERROR(VLOOKUP(W198 & " " & TEXT(X198,"h:mm AM/PM") & " - " & TEXT(Y198,"h:mm AM/PM"), Table_for_Approval, 2, FALSE), "Not Approved"))))
A199: ='Paste Query'!D234 -> 0 | B199: ='Paste Query'!E234 -> 0 | C199: ='Paste Query'!F234 -> 0 | D199: ='Paste Query'!G234 -> 0 | E199: ='Paste Query'!H234 -> 0 | F199: ='Paste Query'!I234 -> 0 | G199: ='Paste Query'!J234 -> 0 | H199: ='Paste Query'!K234 -> 0 | ... Y199: ='Paste Query'!AB234 -> 0 | Z199: =IF(OR(A199 = "", A199 = 0), "", IF(P199 = "VIRTUAL AS", "Approved", IF(COUNTIF(List_of_Specialized_Rooms, P199) > 0, "Approved", IFERROR(VLOOKUP(W199 & " " & TEXT(X199,"h:mm AM/PM") & " - " & TEXT(Y199,"h:mm AM/PM"), Table_for_Approval, 2, FALSE), "Not Approved"))))
A200: ='Paste Query'!D201 -> 0 | B200: ='Paste Query'!E201 -> 0 | C200: ='Paste Query'!F201 -> 0 | D200: ='Paste Query'!G201 -> 0 | E200: ='Paste Query'!H201 -> 0 | F200: ='Paste Query'!I201 -> 0 | G200: ='Paste Query'!J201 -> 0 | H200: ='Paste Query'!K201 -> 0 | ... Y200: ='Paste Query'!AB201 -> 0 | Z200: =IF(OR(A200 = "", A200 = 0), "", IF(P200 = "VIRTUAL AS", "Approved", IF(COUNTIF(List_of_Specialized_Rooms, P200) > 0, "Approved", IFERROR(VLOOKUP(W200 & " " & TEXT(X200,"h:mm AM/PM") & " - " & TEXT(Y200,"h:mm AM/PM"), Table_for_Approval, 2, FALSE), "Not Approved"))))
A201: ='Paste Query'!D202 -> 0 | B201: ='Paste Query'!E202 -> 0 | C201: ='Paste Query'!F202 -> 0 | D201: ='Paste Query'!G202 -> 0 | E201: ='Paste Query'!H202 -> 0 | F201: ='Paste Query'!I202 -> 0 | G201: ='Paste Query'!J202 -> 0 | H201: ='Paste Query'!K202 -> 0 | ... Y201: ='Paste Query'!AB202 -> 0 | Z201: =IF(OR(A201 = "", A201 = 0), "", IF(P201 = "VIRTUAL AS", "Approved", IF(COUNTIF(List_of_Specialized_Rooms, P201) > 0, "Approved", IFERROR(VLOOKUP(W201 & " " & TEXT(X201,"h:mm AM/PM") & " - " & TEXT(Y201,"h:mm AM/PM"), Table_for_Approval, 2, FALSE), "Not Approved"))))
A202: ='Paste Query'!D203 -> 0 | B202: ='Paste Query'!E203 -> 0 | C202: ='Paste Query'!F203 -> 0 | D202: ='Paste Query'!G203 -> 0 | E202: ='Paste Query'!H203 -> 0 | F202: ='Paste Query'!I203 -> 0 | G202: ='Paste Query'!J203 -> 0 | H202: ='Paste Query'!K203 -> 0 | ... Y202: ='Paste Query'!AB203 -> 0 | Z202: =IF(OR(A202 = "", A202 = 0), "", IF(P202 = "VIRTUAL AS", "Approved", IF(COUNTIF(List_of_Specialized_Rooms, P202) > 0, "Approved", IFERROR(VLOOKUP(W202 & " " & TEXT(X202,"h:mm AM/PM") & " - " & TEXT(Y202,"h:mm AM/PM"), Table_for_Approval, 2, FALSE), "Not Approved"))))
A203: ='Paste Query'!D204 -> 0 | B203: ='Paste Query'!E204 -> 0 | C203: ='Paste Query'!F204 -> 0 | D203: ='Paste Query'!G204 -> 0 | E203: ='Paste Query'!H204 -> 0 | F203: ='Paste Query'!I204 -> 0 | G203: ='Paste Query'!J204 -> 0 | H203: ='Paste Query'!K204 -> 0 | ... Y203: ='Paste Query'!AB204 -> 0 | Z203: =IF(OR(A203 = "", A203 = 0), "", IF(P203 = "VIRTUAL AS", "Approved", IF(COUNTIF(List_of_Specialized_Rooms, P203) > 0, "Approved", IFERROR(VLOOKUP(W203 & " " & TEXT(X203,"h:mm AM/PM") & " - " & TEXT(Y203,"h:mm AM/PM"), Table_for_Approval, 2, FALSE), "Not Approved"))))
A204: ='Paste Query'!D205 -> 0 | B204: ='Paste Query'!E205 -> 0 | C204: ='Paste Query'!F205 -> 0 | D204: ='Paste Query'!G205 -> 0 | E204: ='Paste Query'!H205 -> 0 | F204: ='Paste Query'!I205 -> 0 | G204: ='Paste Query'!J205 -> 0 | H204: ='Paste Query'!K205 -> 0 | ... Y204: ='Paste Query'!AB205 -> 0 | Z204: =IF(OR(A204 = "", A204 = 0), "", IF(P204 = "VIRTUAL AS", "Approved", IF(COUNTIF(List_of_Specialized_Rooms, P204) > 0, "Approved", IFERROR(VLOOKUP(W204 & " " & TEXT(X204,"h:mm AM/PM") & " - " & TEXT(Y204,"h:mm AM/PM"), Table_for_Approval, 2, FALSE), "Not Approved"))))
A205: ='Paste Query'!D206 -> 0 | B205: ='Paste Query'!E206 -> 0 | C205: ='Paste Query'!F206 -> 0 | D205: ='Paste Query'!G206 -> 0 | E205: ='Paste Query'!H206 -> 0 | F205: ='Paste Query'!I206 -> 0 | G205: ='Paste Query'!J206 -> 0 | H205: ='Paste Query'!K206 -> 0 | ... Y205: ='Paste Query'!AB206 -> 0 | Z205: =IF(OR(A205 = "", A205 = 0), "", IF(P205 = "VIRTUAL AS", "Approved", IF(COUNTIF(List_of_Specialized_Rooms, P205) > 0, "Approved", IFERROR(VLOOKUP(W205 & " " & TEXT(X205,"h:mm AM/PM") & " - " & TEXT(Y205,"h:mm AM/PM"), Table_for_Approval, 2, FALSE), "Not Approved"))))
A206: ='Paste Query'!D207 -> 0 | B206: ='Paste Query'!E207 -> 0 | C206: ='Paste Query'!F207 -> 0 | D206: ='Paste Query'!G207 -> 0 | E206: ='Paste Query'!H207 -> 0 | F206: ='Paste Query'!I207 -> 0 | G206: ='Paste Query'!J207 -> 0 | H206: ='Paste Query'!K207 -> 0 | ... Y206: ='Paste Query'!AB207 -> 0 | Z206: =IF(OR(A206 = "", A206 = 0), "", IF(P206 = "VIRTUAL AS", "Approved", IF(COUNTIF(List_of_Specialized_Rooms, P206) > 0, "Approved", IFERROR(VLOOKUP(W206 & " " & TEXT(X206,"h:mm AM/PM") & " - " & TEXT(Y206,"h:mm AM/PM"), Table_for_Approval, 2, FALSE), "Not Approved"))))
A207: ='Paste Query'!D208 -> 0 | B207: ='Paste Query'!E208 -> 0 | C207: ='Paste Query'!F208 -> 0 | D207: ='Paste Query'!G208 -> 0 | E207: ='Paste Query'!H208 -> 0 | F207: ='Paste Query'!I208 -> 0 | G207: ='Paste Query'!J208 -> 0 | H207: ='Paste Query'!K208 -> 0 | ... Y207: ='Paste Query'!AB208 -> 0 | Z207: =IF(OR(A207 = "", A207 = 0), "", IF(P207 = "VIRTUAL AS", "Approved", IF(COUNTIF(List_of_Specialized_Rooms, P207) > 0, "Approved", IFERROR(VLOOKUP(W207 & " " & TEXT(X207,"h:mm AM/PM") & " - " & TEXT(Y207,"h:mm AM/PM"), Table_for_Approval, 2, FALSE), "Not Approved"))))
A208: ='Paste Query'!D209 -> 0 | B208: ='Paste Query'!E209 -> 0 | C208: ='Paste Query'!F209 -> 0 | D208: ='Paste Query'!G209 -> 0 | E208: ='Paste Query'!H209 -> 0 | F208: ='Paste Query'!I209 -> 0 | G208: ='Paste Query'!J209 -> 0 | H208: ='Paste Query'!K209 -> 0 | ... Y208: ='Paste Query'!AB209 -> 0 | Z208: =IF(OR(A208 = "", A208 = 0), "", IF(P208 = "VIRTUAL AS", "Approved", IF(COUNTIF(List_of_Specialized_Rooms, P208) > 0, "Approved", IFERROR(VLOOKUP(W208 & " " & TEXT(X208,"h:mm AM/PM") & " - " & TEXT(Y208,"h:mm AM/PM"), Table_for_Approval, 2, FALSE), "Not Approved"))))
A209: ='Paste Query'!D210 -> 0 | B209: ='Paste Query'!E210 -> 0 | C209: ='Paste Query'!F210 -> 0 | D209: ='Paste Query'!G210 -> 0 | E209: ='Paste Query'!H210 -> 0 | F209: ='Paste Query'!I210 -> 0 | G209: ='Paste Query'!J210 -> 0 | H209: ='Paste Query'!K210 -> 0 | ... Y209: ='Paste Query'!AB210 -> 0 | Z209: =IF(OR(A209 = "", A209 = 0), "", IF(P209 = "VIRTUAL AS", "Approved", IF(COUNTIF(List_of_Specialized_Rooms, P209) > 0, "Approved", IFERROR(VLOOKUP(W209 & " " & TEXT(X209,"h:mm AM/PM") & " - " & TEXT(Y209,"h:mm AM/PM"), Table_for_Approval, 2, FALSE), "Not Approved"))))
A210: ='Paste Query'!D211 -> 0 | B210: ='Paste Query'!E211 -> 0 | C210: ='Paste Query'!F211 -> 0 | D210: ='Paste Query'!G211 -> 0 | E210: ='Paste Query'!H211 -> 0 | F210: ='Paste Query'!I211 -> 0 | G210: ='Paste Query'!J211 -> 0 | H210: ='Paste Query'!K211 -> 0 | ... Y210: ='Paste Query'!AB211 -> 0 | Z210: =IF(OR(A210 = "", A210 = 0), "", IF(P210 = "VIRTUAL AS", "Approved", IF(COUNTIF(List_of_Specialized_Rooms, P210) > 0, "Approved", IFERROR(VLOOKUP(W210 & " " & TEXT(X210,"h:mm AM/PM") & " - " & TEXT(Y210,"h:mm AM/PM"), Table_for_Approval, 2, FALSE), "Not Approved"))))
A211: ='Paste Query'!D212 -> 0 | B211: ='Paste Query'!E212 -> 0 | C211: ='Paste Query'!F212 -> 0 | D211: ='Paste Query'!G212 -> 0 | E211: ='Paste Query'!H212 -> 0 | F211: ='Paste Query'!I212 -> 0 | G211: ='Paste Query'!J212 -> 0 | H211: ='Paste Query'!K212 -> 0 | ... Y211: ='Paste Query'!AB212 -> 0 | Z211: =IF(OR(A211 = "", A211 = 0), "", IF(P211 = "VIRTUAL AS", "Approved", IF(COUNTIF(List_of_Specialized_Rooms, P211) > 0, "Approved", IFERROR(VLOOKUP(W211 & " " & TEXT(X211,"h:mm AM/PM") & " - " & TEXT(Y211,"h:mm AM/PM"), Table_for_Approval, 2, FALSE), "Not Approved"))))
... A232: ='Paste Query'!D233 -> 0 | B232: ='Paste Query'!E233 -> 0 | C232: ='Paste Query'!F233 -> 0 | D232: ='Paste Query'!G233 -> 0 | E232: ='Paste Query'!H233 -> 0 | F232: ='Paste Query'!I233 -> 0 | G232: ='Paste Query'!J233 -> 0 | H232: ='Paste Query'!K233 -> 0 | ... Y232: ='Paste Query'!AB233 -> 0 | Z232: =IF(OR(A232 = "", A232 = 0), "", IF(P232 = "VIRTUAL AS", "Approved", IF(COUNTIF(List_of_Specialized_Rooms, P232) > 0, "Approved", IFERROR(VLOOKUP(W232 & " " & TEXT(X232,"h:mm AM/PM") & " - " & TEXT(Y232,"h:mm AM/PM"), Table_for_Approval, 2, FALSE), "Not Approved"))))
A233: ='Paste Query'!D376 -> 0 | B233: ='Paste Query'!E376 -> 0 | C233: ='Paste Query'!F376 -> 0 | D233: ='Paste Query'!G376 -> 0 | E233: ='Paste Query'!H376 -> 0 | F233: ='Paste Query'!I376 -> 0 | G233: ='Paste Query'!J376 -> 0 | H233: ='Paste Query'!K376 -> 0 | ... Y233: ='Paste Query'!AB376 -> 0 | Z233: =IF(OR(A233 = "", A233 = 0), "", IF(P233 = "VIRTUAL AS", "Approved", IF(COUNTIF(List_of_Specialized_Rooms, P233) > 0, "Approved", IFERROR(VLOOKUP(W233 & " " & TEXT(X233,"h:mm AM/PM") & " - " & TEXT(Y233,"h:mm AM/PM"), Table_for_Approval, 2, FALSE), "Not Approved"))))
A234: ='Paste Query'!D235 -> 0 | B234: ='Paste Query'!E235 -> 0 | C234: ='Paste Query'!F235 -> 0 | D234: ='Paste Query'!G235 -> 0 | E234: ='Paste Query'!H235 -> 0 | F234: ='Paste Query'!I235 -> 0 | G234: ='Paste Query'!J235 -> 0 | H234: ='Paste Query'!K235 -> 0 | ... Y234: ='Paste Query'!AB235 -> 0 | Z234: =IF(OR(A234 = "", A234 = 0), "", IF(P234 = "VIRTUAL AS", "Approved", IF(COUNTIF(List_of_Specialized_Rooms, P234) > 0, "Approved", IFERROR(VLOOKUP(W234 & " " & TEXT(X234,"h:mm AM/PM") & " - " & TEXT(Y234,"h:mm AM/PM"), Table_for_Approval, 2, FALSE), "Not Approved"))))
A235: ='Paste Query'!D236 -> 0 | B235: ='Paste Query'!E236 -> 0 | C235: ='Paste Query'!F236 -> 0 | D235: ='Paste Query'!G236 -> 0 | E235: ='Paste Query'!H236 -> 0 | F235: ='Paste Query'!I236 -> 0 | G235: ='Paste Query'!J236 -> 0 | H235: ='Paste Query'!K236 -> 0 | ... Y235: ='Paste Query'!AB236 -> 0 | Z235: =IF(OR(A235 = "", A235 = 0), "", IF(P235 = "VIRTUAL AS", "Approved", IF(COUNTIF(List_of_Specialized_Rooms, P235) > 0, "Approved", IFERROR(VLOOKUP(W235 & " " & TEXT(X235,"h:mm AM/PM") & " - " & TEXT(Y235,"h:mm AM/PM"), Table_for_Approval, 2, FALSE), "Not Approved"))))
A236: ='Paste Query'!D237 -> 0 | B236: ='Paste Query'!E237 -> 0 | C236: ='Paste Query'!F237 -> 0 | D236: ='Paste Query'!G237 -> 0 | E236: ='Paste Query'!H237 -> 0 | F236: ='Paste Query'!I237 -> 0 | G236: ='Paste Query'!J237 -> 0 | H236: ='Paste Query'!K237 -> 0 | ... Y236: ='Paste Query'!AB237 -> 0 | Z236: =IF(OR(A236 = "", A236 = 0), "", IF(P236 = "VIRTUAL AS", "Approved", IF(COUNTIF(List_of_Specialized_Rooms, P236) > 0, "Approved", IFERROR(VLOOKUP(W236 & " " & TEXT(X236,"h:mm AM/PM") & " - " & TEXT(Y236,"h:mm AM/PM"), Table_for_Approval, 2, FALSE), "Not Approved"))))
...

Sheet Smry of Audit Results
B12: =Results!#REF! -> #REF!
B14: Count of Audit Result
B15: Subject | C15: Catalog | D15: Section | E15: Component | F15: Audit Result | G15: Total
B16: 0 | C16: 0 | D16: 0 | E16: 0 | F16: Not Approved | G16: 2
B17: Grand Total | G17: 2

Sheet Approval List
A1: Class Times | B1: Approved? | D1: List of Specialized Rooms
A2: 1:00 PM - 2:50 PM | B2: Not Approved - MUST Add Days | D2: ACD 104
A3: 1:30 PM - 3:20 PM | B3: Not Approved - MUST Add Days | D3: ACD 113
A4: 10:00 AM - 11:50 AM | B4: Not Approved - MUST Add Days | D4: ACD 115
A5: 10:00 AM - 12:50 PM | B5: Not Approved - MUST Add Days | D5: ARTS 111
A6: 10:30 AM - 1:20 PM | B6: Not Approved - MUST Add Days | D6: ARTS 116
A7: 10:30 PM - 11:45 PM | B7: Not Approved - MUST Add Days | D7: ARTS 177
A8: 11:00 AM - 12:50 PM | B8: Not Approved - MUST Add Days | D8: ARTS 239
A9: 12:00 AM - 12:00 AM | B9: Maybe Approved - for ASYNC Classes. If this should be deleted & is a STATE-SIDE class, PLEASE do so on the Basic Data page. | D9: ARTS 340
A10: 12:00 PM - 12:50 PM | B10: Not Approved - MUST Add Days | D10: ARTS 342
A11: 12:00 PM - 2:50 PM | B11: Not Approved - MUST Add Days | D11: ARTS 344
A12: 12:30 PM - 1:30 PM | B12: Not Approved - MUST Add Days | D12: ARTS 346
... A43: F 1:30 PM - 3:20 PM | B43: Maybe Approved - ONLY for laboratory classes in dedicated space | D43: VEP 5109
A44: F 1:30 PM - 4:20 PM | B44: Maybe Approved - ONLY for laboratory classes in dedicated space
A45: F 10:00 AM - 11:50 AM | B45: Not Approved
A46: F 10:00 AM - 12:50 PM | B46: Not Approved
A47: F 10:30 AM - 1:20 PM | B47: Approved
A48: F 10:30 AM - 11:20 AM | B48: Approved
A49: F 10:30 AM - 12:20 PM | B49: Approved
A50: F 10:30 AM - 2:20 PM | B50: Approved
A51: F 11:30 AM - 1:20 PM | B51: Approved
A52: F 11:30 AM - 12:20 PM | B52: Approved
A53: F 11:30 AM - 2:15 PM | B53: Not Approved - For Approval, change end time to 20 minutes after the hour (instead of :15)
A54: F 11:30 AM - 2:20 PM | B54: Approved
A55: F 11:30 AM - 5:15 PM | B55: Approved
... A851: M 9:00 AM - 9:50 AM | B851: Not Approved - Monday & Wednesday Approved Times start on the Half Hour (X:30 AM/PM)
