Workbook
Name List_of_Specialized_Rooms: 'Approval List'!$D$1:$D$58
Name Raw_Data_4PT: Results!$A$1:$Z$189
Name Slicer_Audit_Result: #N/A
Name Table_for_Approval: 'Approval List'!$A$1:$B$851

Sheet Directions
A1: Directions for Run
A3: 1 | B3: Run the Query "SMO_SEA_APRV_TIMES" in the ACDSCHED Query Folder in PeopleSoft
B4: Open that query file
A6: 2 | B6: On the "Paste Query" tab, delete any/all values. If no values are there, go to step 3 directly.
A8: 3 | B8: In the PSoft query you have run & is open, copy ALL values (Ctrl+A to select All & Ctrl+C to copy), then paste into the "Paste Query" tab (make sure you click on cell A1 first, then paste)
A10: 4 | B10: On the "Results" tab - the last column will show whether it is approved, may be approved, or is not approved. Please review the Maybe Approved and the Not Approved values.
A12: 5 | B12: On the "Smry of Audit Results" tab, right-click within the table and select Refresh.
B13: The table will then show a summary of the Audit Results. Click on the value you wish to see at the top.
A15: NOTE: | B15: If there are any times that appear as Not Approved that are in the Approved Class Meeting Times list, please let Sally Serrin Melena (sserrin@csusm.edu) know ASAP. Thank you!

Sheet Paste Query

Sheet Results
A1: Subject | B1: Catalog | C1: Section | D1: Class Nbr | E1: Descr | F1: Component | G1: Enrl Type | H1: Assoc | I1: Combined | J1: Class Status | K1: Instr Mode | L1: Pref Name | M1: RqRmSz | N1: Cap | O1: Enrl | P1: Facil ID | Q1: RmSz | R1: Session | S1: PLAN | T1: CS | U1: Comp Units | V1: MP Nbr | W1: Day(s) | X1: Start | Y1: End | Z1: Audit Result
A2: ='Paste Query'!D3 -> 0 | B2: ='Paste Query'!E3 -> 0 | C2: ='Paste Query'!F3 -> 0 | D2: ='Paste Query'!G3 -> 0 | E2: ='Paste Query'!H3 -> 0 | F2: ='Paste Query'!I3 -> 0 | G2: ='Paste Query'!J3 -> 0 | H2: ='Paste Query'!K3 -> 0 | ... Y2: ='Paste Query'!AB3 -> 0 | Z2: =IF(A2 = "", "", IF(P2 = "VIRTUAL AS", "Approved", IF(COUNTIF(List_of_Specialized_Rooms, P2) > 0, "Approved", IFERROR(VLOOKUP(W2& " " &TEXT(X2,"h:mm AM/PM") & " - " & TEXT(Y2,"h:mm AM/PM"),Table_for_Approval,2, FALSE),"Not Approved")))) -> Not Approved
A3: ='Paste Query'!D4 -> 0 | B3: ='Paste Query'!E4 -> 0 | C3: ='Paste Query'!F4 -> 0 | D3: ='Paste Query'!G4 -> 0 | E3: ='Paste Query'!H4 -> 0 | F3: ='Paste Query'!I4 -> 0 | G3: ='Paste Query'!J4 -> 0 | H3: ='Paste Query'!K4 -> 0 | ... Y3: ='Paste Query'!AB4 -> 0 | Z3: =IF(A3 = "", "", IF(P3 = "VIRTUAL AS", "Approved", IF(COUNTIF(List_of_Specialized_Rooms, P3) > 0, "Approved", IFERROR(VLOOKUP(W3& " " &TEXT(X3,"h:mm AM/PM") & " - " & TEXT(Y3,"h:mm AM/PM"),Table_for_Approval,2, FALSE),"Not Approved")))) -> Not Approved
A4: ='Paste Query'!D5 -> 0 | B4: ='Paste Query'!E5 -> 0 | C4: ='Paste Query'!F5 -> 0 | D4: ='Paste Query'!G5 -> 0 | E4: ='Paste Query'!H5 -> 0 | F4: ='Paste Query'!I5 -> 0 | G4: ='Paste Query'!J5 -> 0 | H4: ='Paste Query'!K5 -> 0 | ... Y4: ='Paste Query'!AB5 -> 0 | Z4: =IF(OR(A4 = "", A4 = 0), "", IF(P4 = "VIRTUAL AS", "Approved", IF(COUNTIF(List_of_Specialized_Rooms, P4) > 0, "Approved", IFERROR(VLOOKUP(W4 & " " & TEXT(X4,"h:mm AM/PM") & " - " & TEXT(Y4,"h:mm AM/PM"), Table_for_Approval, 2, FALSE), "Not Approved"))))
A5: ='Paste Query'!D6 -> 0 | B5: ='Paste Query'!E6 -> 0 | C5: ='Paste Query'!F6 -> 0 | D5: ='Paste Query'!G6 -> 0 | E5: ='Paste Query'!H6 -> 0 | F5: ='Paste Query'!I6 -> 0 | G5: ='Paste Query'!J6 -> 0 | H5: ='Paste Query'!K6 -> 0 | ... Y5: ='Paste Query'!AB6 -> 0 | Z5: =IF(OR(A5 = "", A5 = 0), "", IF(P5 = "VIRTUAL AS", "Approved", IF(COUNTIF(List_of_Specialized_Rooms, P5) > 0, "Approved", IFERROR(VLOOKUP(W5 & " " & TEXT(X5,"h:mm AM/PM") & " - " & TEXT(Y5,"h:mm AM/PM"), Table_for_Approval, 2, FALSE), "Not Approved"))))
A6: ='Paste Query'!D7 -> 0 | B6: ='Paste Query'!E7 -> 0 | C6: ='Paste Query'!F7 -> 0 | D6: ='Paste Query'!G7 -> 0 | E6: ='Paste Query'!H7 -> 0 | F6: ='Paste Query'!I7 -> 0 | G6: ='Paste Query'!J7 -> 0 | H6: ='Paste Query'!K7 -> 0 | ... Y6: ='Paste Query'!AB7 -> 0 | Z6: =IF(OR(A6 = "", A6 = 0), "", IF(P6 = "VIRTUAL AS", "Approved", IF(COUNTIF(List_of_Specialized_Rooms, P6) > 0, "Approved", IFERROR(VLOOKUP(W6 & " " & TEXT(X6,"h:mm AM/PM") & " - " & TEXT(Y6,"h:mm AM/PM"), Table_for_Approval, 2, FALSE), "Not Approved"))))
A7: ='Paste Query'!D8 -> 0 | B7: ='Paste Query'!E8 -> 0 | C7: ='Paste Query'!F8 -> 0 | D7: ='Paste Query'!G8 -> 0 | E7: ='Paste Query'!H8 -> 0 | F7: ='Paste Query'!I8 -> 0 | G7: ='Paste Query'!J8 -> 0 | H7: ='Paste Query'!K8 -> 0 | ... Y7: ='Paste Query'!AB8 -> 0 | Z7: =IF(OR(A7 = "", A7 = 0), "", IF(P7 = "VIRTUAL AS", "Approved", IF(COUNTIF(List_of_Specialized_Rooms, P7) > 0, "Approved", IFERROR(VLOOKUP(W7 & " " & TEXT(X7,"h:mm AM/PM") & " - " & TEXT(Y7,"h:mm AM/PM"), Table_for_Approval, 2, FALSE), "Not Approved"))))
A8: ='Paste Query'!D9 -> 0 | B8: ='Paste Query'!E9 -> 0 | C8: ='Paste Query'!F9 -> 0 | D8: ='Paste Query'!G9 -> 0 | E8: ='Paste Query'!H9 -> 0 | F8: ='Paste Query'!I9 -> 0 | G8: ='Paste Query'!J9 -> 0 | H8: ='Paste Query'!K9 -> 0 | ... Y8: ='Paste Query'!AB9 -> 0 | Z8: =IF(OR(A8 = "", A8 = 0), "", IF(P8 = "VIRTUAL AS", "Approved", IF(COUNTIF(List_of_Specialized_Rooms, P8) > 0, "Approved", IFERROR(VLOOKUP(W8 & " " & TEXT(X8,"h:mm AM/PM") & " - " & TEXT(Y8,"h:mm AM/PM"), Table_for_Approval, 2, FALSE), "Not Approved"))))
A9: ='Paste Query'!D10 -> 0 | B9: ='Paste Query'!E10 -> 0 | C9: ='Paste Query'!F10 -> 0 | D9: ='Paste Query'!G10 -> 0 | E9: ='Paste Query'!H10 -> 0 | F9: ='Paste Query'!I10 -> 0 | G9: ='Paste Query'!J10 -> 0 | H9: ='Paste Query'!K10 -> 0 | ... Y9: ='Paste Query'!AB10 -> 0 | Z9: =IF(OR(A9 = "", A9 = 0), "", IF(P9 = "VIRTUAL AS", "Approved", IF(COUNTIF(List_of_Specialized_Rooms, P9) > 0, "Approved", IFERROR(VLOOKUP(W9 & " " & TEXT(X9,"h:mm AM/PM") & " - " & TEXT(Y9,"h:mm AM/PM"), Table_for_Approval, 2, FALSE), "Not Approved"))))
A10: ='Paste Query'!D11 -> 0 | B10: ='Paste Query'!E11 -> 0 | C10: ='Paste Query'!F11 -> 0 | D10: ='Paste Query'!G11 -> 0 | E10: ='Paste Query'!H11 -> 0 | F10: ='Paste Query'!I11 -> 0 | G10: ='Paste Query'!J11 -> 0 | H10: ='Paste Query'!K11 -> 0 | ... Y10: ='Paste Query'!AB11 -> 0 | Z10: =IF(OR(A10 = "", A10 = 0), "", IF(P10 = "VIRTUAL AS", "Approved", IF(COUNTIF(List_of_Specialized_Rooms, P10) > 0, "Approved", IFERROR(VLOOKUP(W10 & " " & TEXT(X10,"h:mm AM/PM") & " - " & TEXT(Y10,"h:mm AM/PM"), Table_for_Approval, 2, FALSE), "Not Approved"))))
A11: ='Paste Query'!D12 -> 0 | B11: ='Paste Query'!E12 -> 0 | C11: ='Paste Query'!F12 -> 0 | D11: ='Paste Query'!G12 -> 0 | E11: ='Paste Query'!H12 -> 0 | F11: ='Paste Query'!I12 -> 0 | G11: ='Paste Query'!J12 -> 0 | H11: ='Paste Query'!K12 -> 0 | ... Y11: ='Paste Query'!AB12 -> 0 | Z11: =IF(OR(A11 = "", A11 = 0), "", IF(P11 = "VIRTUAL AS", "Approved", IF(COUNTIF(List_of_Specialized_Rooms, P11) > 0, "Approved", IFERROR(VLOOKUP(W11 & " " & TEXT(X11,"h:mm AM/PM") & " - " & TEXT(Y11,"h:mm AM/PM"), Table_for_Approval, 2, FALSE), "Not Approved"))))
A12: ='Paste Query'!D13 -> 0 | B12: ='Paste Query'!E13 -> 0 | C12: ='Paste Query'!F13 -> 0 | D12: ='Paste Query'!G13 -> 0 | E12: ='Paste Query'!H13 -> 0 | F12: ='Paste Query'!I13 -> 0 | G12: ='Paste Query'!J13 -> 0 | H12: ='Paste Query'!K13 -> 0 | ... Y12: ='Paste Query'!AB13 -> 0 | Z12: =IF(OR(A12 = "", A12 = 0), "", IF(P12 = "VIRTUAL AS", "Approved", IF(COUNTIF(List_of_Specialized_Rooms, P12) > 0, "Approved", IFERROR(VLOOKUP(W12 & " " & TEXT(X12,"h:mm AM/PM") & " - " & TEXT(Y12,"h:mm AM/PM"), Table_for_Approval, 2, FALSE), "Not Approved"))))
A13: ='Paste Query'!D14 -> 0 | B13: ='Paste Query'!E14 -> 0 | C13: ='Paste Query'!F14 -> 0 | D13: ='Paste Query'!G14 -> 0 | E13: ='Paste Query'!H14 -> 0 | F13: ='Paste Query'!I14 -> 0 | G13: ='Paste Query'!J14 -> 0 | H13: ='Paste Query'!K14 -> 0 | ... Y13: ='Paste Query'!AB14 -> 0 | Z13: =IF(OR(A13 = "", A13 = 0), "", IF(P13 = "VIRTUAL AS", "Approved", IF(COUNTIF(List_of_Specialized_Rooms, P13) > 0, "Approved", IFERROR(VLOOKUP(W13 & " " & TEXT(X13,"h:mm AM/PM") & " - " & TEXT(Y13,"h:mm AM/PM"), Table_for_Approval, 2, FALSE), "Not Approved"))))
A14: ='Paste Query'!D15 -> 0 | B14: ='Paste Query'!E15 -> 0 | C14: ='Paste Query'!F15 -> 0 | D14: ='Paste Query'!G15 -> 0 | E14: ='Paste Query'!H15 -> 0 | F14: ='Paste Query'!I15 -> 0 | G14: ='Paste Query'!J15 -> 0 | H14: ='Paste Query'!K15 -> 0 | ... Y14: ='Paste Query'!AB15 -> 0 | Z14: =IF(OR(A14 = "", A14 = 0), "", IF(P14 = "VIRTUAL AS", "Approved", IF(COUNTIF(List_of_Specialized_Rooms, P14) > 0, "Approved", IFERROR(VLOOKUP(W14 & " " & TEXT(X14,"h:mm AM/PM") & " - " & TEXT(Y14,"h:mm AM/PM"), Table_for_Approval, 2, FALSE), "Not Approved"))))
A15: ='Paste Query'!D16 -> 0 | B15: ='Paste Query'!E16 -> 0 | C15: ='Paste Query'!F16 -> 0 | D15: ='Paste Query'!G16 -> 0 | E15: ='Paste Query'!H16 -> 0 | F15: ='Paste Query'!I16 -> 0 | G15: ='Paste Query'!J16 -> 0 | H15: ='Paste Query'!K16 -> 0 | ... Y15: ='Paste Query'!AB16 -> 0 | Z15: =IF(OR(A15 = "", A15 = 0), "", IF(P15 = "VIRTUAL AS", "Approved", IF(COUNTIF(List_of_Specialized_Rooms, P15) > 0, "Approved", IFERROR(VLOOKUP(W15 & " " & TEXT(X15,"h:mm AM/PM") & " - " & TEXT(Y15,"h:mm AM/PM"), Table_for_Approval, 2, FALSE), "Not Approved"))))
... A192: ='Paste Query'!D193 -> 0 | B192: ='Paste Query'!E193 -> 0 | C192: ='Paste Query'!F193 -> 0 | D192: ='Paste Query'!G193 -> 0 | E192: ='Paste Query'!H193 -> 0 | F192: ='Paste Query'!I193 -> 0 | G192: ='Paste Query'!J193 -> 0 | H192: ='Paste Query'!K193 -> 0 | ... Y192: ='Paste Query'!AB193 -> 0 | Z192: =IF(OR(A192 = "", A192 = 0), "", IF(P192 = "VIRTUAL AS", "Approved", IF(COUNTIF(List_of_Specialized_Rooms, P192) > 0, "Approved", IFERROR(VLOOKUP(W192 & " " & TEXT(X192,"h:mm AM/PM") & " - " & TEXT(Y192,"h:mm AM/PM"), Table_for_Approval, 2, FALSE), "Not Approved"))))
A193: ='Paste Query'!D3087 -> 0 | B193: ='Paste Query'!E3087 -> 0 | C193: ='Paste Query'!F3087 -> 0 | D193: ='Paste Query'!G3087 -> 0 | E193: ='Paste Query'!H3087 -> 0 | F193: ='Paste Query'!I3087 -> 0 | G193: ='Paste Query'!J3087 -> 0 | H193: ='Paste Query'!K3087 -> 0 | ... Y193: ='Paste Query'!AB3087 -> 0 | Z193: =IF(OR(A193 = "", A193 = 0), "", IF(P193 = "VIRTUAL AS", "Approved", IF(COUNTIF(List_of_Specialized_Rooms, P193) > 0, "Approved", IFERROR(VLOOKUP(W193 & " " & TEXT(X193,"h:mm AM/PM") & " - " & TEXT(Y193,"h:mm AM/PM"), Table_for_Approval, 2, FALSE), "Not Approved"))))
A194: ='Paste Query'!D195 -> 0 | B194: ='Paste Query'!E195 -> 0 | C194: ='Paste Query'!F195 -> 0 | D194: ='Paste Query'!G195 -> 0 | E194: ='Paste Query'!H195 -> 0 | F194: ='Paste Query'!I195 -> 0 | G194: ='Paste Query'!J195 -> 0 | H194: ='Paste Query'!K195 -> 0 | ... Y194: ='Paste Query'!AB195 -> 0 | Z194: =IF(OR(A194 = "", A194 = 0), "", IF(P194 = "VIRTUAL AS", "Approved", IF(COUNTIF(List_of_Specialized_Rooms, P194) > 0, "Approved", IFERROR(VLOOKUP(W194 & " " & TEXT(X194,"h:mm AM/PM") & " - " & TEXT(Y194,"h:mm AM/PM"), Table_for_Approval, 2, FALSE), "Not Approved"))))
A195: ='Paste Query'!D196 -> 0 | B195: ='Paste Query'!E196 -> 0 | C195: ='Paste Query'!F196 -> 0 | D195: ='Paste Query'!G196 -> 0 | E195: ='Paste Query'!H196 -> 0 | F195: ='Paste Query'!I196 -> 0 | G195: ='Paste Query'!J196 -> 0 | H195: ='Paste Query'!K196 -> 0 | ... Y195: ='Paste Query'!AB196 -> 0 | Z195: =IF(OR(A195 = "", A195 = 0), "", IF(P195 = "VIRTUAL AS", "Approved", IF(COUNTIF(List_of_Specialized_Rooms, P195) > 0, "Approved", IFERROR(VLOOKUP(W195 & " " & TEXT(X195,"h:mm AM/PM") & " - " & TEXT(Y195,"h:mm AM/PM"), Table_for_Approval, 2, FALSE), "Not Approved"))))
A196: ='Paste Query'!D3119 -> 0 | B196: ='Paste Query'!E3119 -> 0 | C196: ='Paste Query'!F3119 -> 0 | D196: ='Paste Query'!G3119 -> 0 | E196: ='Paste Query'!H3119 -> 0 | F196: ='Paste Query'!I3119 -> 0 | G196: ='Paste Query'!J3119 -> 0 | H196: ='Paste Query'!K3119 -> 0 | ... Y196: ='Paste Query'!AB3119 -> 0 | Z196: =IF(OR(A196 = "", A196 = 0), "", IF(P196 = "VIRTUAL AS", "Approved", IF(COUNTIF(List_of_Specialized_Rooms, P196) > 0, "Approved", IFERROR(VLOOKUP(W196 & " " & TEXT(X196,"h:mm AM/PM") & " - " & TEXT(Y196,"h:mm AM/PM"), Table_for_Approval, 2, FALSE), "Not Approved"))))
A197: ='Paste Query'!D198 -> 0 | B197: ='Paste Query'!E198 -> 0 | C197: ='Paste Query'!F198 -> 0 | D197: ='Paste Query'!G198 -> 0 | E197: ='Paste Query'!H198 -> 0 | F197: ='Paste Query'!I198 -> 0 | G197: ='Paste Query'!J198 -> 0 | H197: ='Paste Query'!K198 -> 0 | ... Y197: ='Paste Query'!AB198 -> 0 | Z197: =IF(OR(A197 = "", A197 = 0), "", IF(P197 = "VIRTUAL AS", "Approved", IF(COUNTIF(List_of_Specialized_Rooms, P197) > 0, "Approved", IFERROR(VLOOKUP(W197 & " " & TEXT(X197,"h:mm AM/PM") & " - " & TEXT(Y197,"h:mm AM/PM"), Table_for_Approval, 2, FALSE), "Not Approved"))))
A198: ='Paste Query'!D199 -> 0 | B198: ='Paste Query'!E199 -> 0 | C198: ='Paste Query'!F199 -> 0 | D198: ='Paste Query'!G199 -> 0 | E198: ='Paste Query'!H199 -> 0 | F198: ='Paste Query'!I199 -> 0 | G198: ='Paste Query'!J199 -> 0 | H198: ='Paste Query'!K199 -> 0 | ... Y198: ='Paste Query'!AB199 -> 0 | Z198: =IF(OR(A198 = "", A198 = 0), "", IF(P198 = "VIRTUAL AS", "Approved", IF(COUNTIF(List_of_Specialized_Rooms, P198) > 0, "Approved", IFERROR(VLOOKUP(W198 & " " & TEXT(X198,"h:mm AM/PM") & " - " & TEXT(Y198,"h:mm AM/PM"), Table_for_Approval, 2, FALSE), "Not Approved"))))
A199: ='Paste Query'!D234 -> 0 | B199: ='Paste Query'!E234 -> 0 | C199: ='Paste Query'!F234 -> 0 | D199: ='Paste Query'!G234 -> 0 | E199: ='Paste Query'!H234 -> 0 | F199: ='Paste Query'!I234 -> 0 | G199: ='Paste Query'!J234 -> 0 | H199: ='Paste Query'!K234 -> 0 | ... Y199: ='Paste Query'!AB234 -> 0 | Z199: =IF(OR(A199 = "", A199 = 0), "", IF(P199 = "VIRTUAL AS", "Approved", IF(COUNTIF(List_of_Specialized_Rooms, P199) > 0, "Approved", IFERROR(VLOOKUP(W199 & " " & TEXT(X199,"h:mm AM/PM") & " - " & TEXT(Y199,"h:mm AM/PM"), Table_for_Approval, 2, FALSE), "Not Approved"))))
A200: ='Paste Query'!D201 -> 0 | B200: ='Paste Query'!E201 -> 0 | C200: ='Paste Query'!F201 -> 0 | D200: ='Paste Query'!G201 -> 0 | E200: ='Paste Query'!H201 -> 0 | F200: ='Paste Query'!I201 -> 0 | G200: ='Paste Query'!J201 -> 0 | H200: ='Paste Query'!K201 -> 0 | ... Y200: ='Paste Query'!AB201 -> 0 | Z200: =IF(OR(A200 = "", A200 = 0), "", IF(P200 = "VIRTUAL AS", "Approved", IF(COUNTIF(List_of_Specialized_Rooms, P200) > 0, "Approved", IFERROR(VLOOKUP(W200 & " " & TEXT(X200,"h:mm AM/PM") & " - " & TEXT(Y200,"h:mm AM/PM"), Table_for_Approval, 2, FALSE), "Not Approved"))))
A201: ='Paste Query'!D202 -> 0 | B201: ='Paste Query'!E202 -> 0 | C201: ='Paste Query'!F202 -> 0 | D201: ='Paste Query'!G202 -> 0 | E201: ='Paste Query'!H202 -> 0 | F201: ='Paste Query'!I202 -> 0 | G201: ='Paste Query'!J202 -> 0 | H201: ='Paste Query'!K202 -> 0 | ... Y201: ='Paste Query'!AB202 -> 0 | Z201: =IF(OR(A201 = "", A201 = 0), "", IF(P201 = "VIRTUAL AS", "Approved", IF(COUNTIF(List_of_Specialized_Rooms, P201) > 0, "Approved", IFERROR(VLOOKUP(W201 & " " & TEXT(X201,"h:mm AM/PM") & " - " & TEXT(Y201,"h:mm AM/PM"), Table_for_Approval, 2, FALSE), "Not Approved"))))
A202: ='Paste Query'!D203 -> 0 | B202: ='Paste Query'!E203 -> 0 | C202: ='Paste Query'!F203 -> 0 | D202: ='Paste Query'!G203 -> 0 | E202: ='Paste Query'!H203 -> 0 | F202: ='Paste Query'!I203 -> 0 | G202: ='Paste Query'!J203 -> 0 | H202: ='Paste Query'!K203 -> 0 | ... Y202: ='Paste Query'!AB203 -> 0 | Z202: =IF(OR(A202 = "", A202 = 0), "", IF(P202 = "VIRTUAL AS", "Approved", IF(COUNTIF(List_of_Specialized_Rooms, P202) > 0, "Approved", IFERROR(VLOOKUP(W202 & " " & TEXT(X202,"h:mm AM/PM") & " - " & TEXT(Y202,"h:mm AM/PM"), Table_for_Approval, 2, FALSE), "Not Approved"))))
A203: ='Paste Query'!D204 -> 0 | B203: ='Paste Query'!E204 -> 0 | C203: ='Paste Query'!F204 -> 0 | D203: ='Paste Query'!G204 -> 0 | E203: ='Paste Query'!H204 -> 0 | F203: ='Paste Query'!I204 -> 0 | G203: ='Paste Query'!J204 -> 0 | H203: ='Paste Query'!K204 -> 0 | ... Y203: ='Paste Query'!AB204 -> 0 | Z203: =IF(OR(A203 = "", A203 = 0), "", IF(P203 = "VIRTUAL AS", "Approved", IF(COUNTIF(List_of_Specialized_Rooms, P203) > 0, "Approved", IFERROR(VLOOKUP(W203 & " " & TEXT(X203,"h:mm AM/PM") & " - " & TEXT(Y203,"h:mm AM/PM"), Table_for_Approval, 2, FALSE), "Not Approved"))))
A204: ='Paste Query'!D205 -> 0 | B204: ='Paste Query'!E205 -> 0 | C204: ='Paste Query'!F205 -> 0 | D204: ='Paste Query'!G205 -> 0 | E204: ='Paste Query'!H205 -> 0 | F204: ='Paste Query'!I205 -> 0 | G204: ='Paste Query'!J205 -> 0 | H204: ='Paste Query'!K205 -> 0 | ... Y204: ='Paste Query'!AB205 -> 0 | Z204: =IF(OR(A204 = "", A204 = 0), "", IF(P204 = "VIRTUAL AS", "Approved", IF(COUNTIF(List_of_Specialized_Rooms, P204) > 0, "Approved", IFERROR(VLOOKUP(W204 & " " & TEXT(X204,"h:mm AM/PM") & " - " & TEXT(Y204,"h:mm AM/PM"), Table_for_Approval, 2, FALSE), "Not Approved"))))
A205: ='Paste Query'!D206 -> 0 | B205: ='Paste Query'!E206 -> 0 | C205: ='Paste Query'!F206 -> 0 | D205: ='Paste Query'!G206 -> 0 | E205: ='Paste Query'!H206 -> 0 | F205: ='Paste Query'!I206 -> 0 | G205: ='Paste Query'!J206 -> 0 | H205: ='Paste Query'!K206 -> 0 | ... Y205: ='Paste Query'!AB206 -> 0 | Z205: =IF(OR(A205 = "", A205 = 0), "", IF(P205 = "VIRTUAL AS", "Approved", IF(COUNTIF(List_of_Specialized_Rooms, P205) > 0, "Approved", IFERROR(VLOOKUP(W205 & " " & TEXT(X205,"h:mm AM/PM") & " - " & TEXT(Y205,"h:mm AM/PM"), Table_for_Approval, 2, FALSE), "Not Approved"))))
A206: ='Paste Query'!D207 -> 0 | B206: ='Paste Query'!E207 -> 0 | C206: ='Paste Query'!F207 -> 0 | D206: ='Paste Query'!G207 -> 0 | E206: ='Paste Query'!H207 -> 0 | F206: ='Paste Query'!I207 -> 0 | G206: ='Paste Query'!J207 -> 0 | H206: ='Paste Query'!K207 -> 0 | ... Y206: ='Paste Query'!AB207 -> 0 | Z206: =IF(OR(A206 = "", A206 = 0), "", IF(P206 = "VIRTUAL AS", "Approved", IF(COUNTIF(List_of_Specialized_Rooms, P206) > 0, "Approved", IFERROR(VLOOKUP(W206 & " " & TEXT(X206,"h:mm AM/PM") & " - " & TEXT(Y206,"h:mm AM/PM"), Table_for_Approval, 2, FALSE), "Not Approved"))))
A207: ='Paste Query'!D208 -> 0 | B207: ='Paste Query'!E208 -> 0 | C207: ='Paste Query'!F208 -> 0 | D207: ='Paste Query'!G208 -> 0 | E207: ='Paste Query'!H208 -> 0 | F207: ='Paste Query'!I208 -> 0 | G207: ='Paste Query'!J208 -> 0 | H207: ='Paste Query'!K208 -> 0 | ... Y207: ='Paste Query'!AB208 -> 0 | Z207: =IF(OR(A207 = "", A207 = 0), "", IF(P207 = "VIRTUAL AS", "Approved", IF(COUNTIF(List_of_Specialized_Rooms, P207) > 0, "Approved", IFERROR(VLOOKUP(W207 & " " & TEXT(X207,"h:mm AM/PM") & " - " & TEXT(Y207,"h:mm AM/PM"), Table_for_Approval, 2, FALSE), "Not Approved"))))
A208: ='Paste Query'!D209 -> 0 | B208: ='Paste Query'!E209 -> 0 | C208: ='Paste Query'!F209 -> 0 | D208: ='Paste Query'!G209 -> 0 | E208: ='Paste Query'!H209 -> 0 | F208: ='Paste Query'!I209 -> 0 | G208: ='Paste Query'!J209 -> 0 | H208: ='Paste Query'!K209 -> 0 | ... Y208: ='Paste Query'!AB209 -> 0 | Z208: =IF(OR(A208 = "", A208 = 0), "", IF(P208 = "VIRTUAL AS", "Approved", IF(COUNTIF(List_of_Specialized_Rooms, P208) > 0, "Approved", IFERROR(VLOOKUP(W208 & " " & TEXT(X208,"h:mm AM/PM") & " - " & TEXT(Y208,"h:mm AM/PM"), Table_for_Approval, 2, FALSE), "Not Approved"))))
A209: ='Paste Query'!D210 -> 0 | B209: ='Paste Query'!E210 -> 0 | C209: ='Paste Query'!F210 -> 0 | D209: ='Paste Query'!G210 -> 0 | E209: ='Paste Query'!H210 -> 0 | F209: ='Paste Query'!I210 -> 0 | G209: ='Paste Query'!J210 -> 0 | H209: ='Paste Query'!K210 -> 0 | ... Y209: ='Paste Query'!AB210 -> 0 | Z209: =IF(OR(A209 = "", A209 = 0), "", IF(P209 = "VIRTUAL AS", "Approved", IF(COUNTIF(List_of_Specialized_Rooms, P209) > 0, "Approved", IFERROR(VLOOKUP(W209 & " " & TEXT(X209,"h:mm AM/PM") & " - " & TEXT(Y209,"h:mm AM/PM"), Table_for_Approval, 2, FALSE), "Not Approved"))))
A210: ='Paste Query'!D211 -> 0 | B210: ='Paste Query'!E211 -> 0 | C210: ='Paste Query'!F211 -> 0 | D210: ='Paste Query'!G211 -> 0 | E210: ='Paste Query'!H211 -> 0 | F210: ='Paste Query'!I211 -> 0 | G210: ='Paste Query'!J211 -> 0 | H210: ='Paste Query'!K211 -> 0 | ... Y210: ='Paste Query'!AB211 -> 0 | Z210: =IF(OR(A210 = "", A210 = 0), "", IF(P210 = "VIRTUAL AS", "Approved", IF(COUNTIF(List_of_Specialized_Rooms, P210) > 0, "Approved", IFERROR(VLOOKUP(W210 & " " & TEXT(X210,"h:mm AM/PM") & " - " & TEXT(Y210,"h:mm AM/PM"), Table_for_Approval, 2, FALSE), "Not Approved"))))
A211: ='Paste Query'!D212 -> 0 | B211: ='Paste Query'!E212 -> 0 | C211: ='Paste Query'!F212 -> 0 | D211: ='Paste Query'!G212 -> 0 | E211: ='Paste Query'!H212 -> 0 | F211: ='Paste Query'!I212 -> 0 | G211: ='Paste Query'!J212 -> 0 | H211: ='Paste Query'!K212 -> 0 | ... Y211: ='Paste Query'!AB212 -> 0 | Z211: =IF(OR(A211 = "", A211 = 0), "", IF(P211 = "VIRTUAL AS", "Approved", IF(COUNTIF(List_of_Specialized_Rooms, P211) > 0, "Approved", IFERROR(VLOOKUP(W211 & " " & TEXT(X211,"h:mm AM/PM") & " - " & TEXT(Y211,"h:mm AM/PM"), Table_for_Approval, 2, FALSE), "Not Approved"))))
... A232: ='Paste Query'!D233 -> 0 | B232: ='Paste Query'!E233 -> 0 | C232: ='Paste Query'!F233 -> 0 | D232: ='Paste Query'!G233 -> 0 | E232: ='Paste Query'!H233 -> 0 | F232: ='Paste Query'!I233 -> 0 | G232: ='Paste Query'!J233 -> 0 | H232: ='Paste Query'!K233 -> 0 | ... Y232: ='Paste Query'!AB233 -> 0 | Z232: =IF(OR(A232 = "", A232 = 0), "", IF(P232 = "VIRTUAL AS", "Approved", IF(COUNTIF(List_of_Specialized_Rooms, P232) > 0, "Approved", IFERROR(VLOOKUP(W232 & " " & TEXT(X232,"h:mm AM/PM") & " - " & TEXT(Y232,"h:mm AM/PM"), Table_for_Approval, 2, FALSE), "Not Approved"))))
A233: ='Paste Query'!D376 -> 0 | B233: ='Paste Query'!E376 -> 0 | C233: ='Paste Query'!F376 -> 0 | D233: ='Paste Query'!G376 -> 0 | E233: ='Paste Query'!H376 -> 0 | F233: ='Paste Query'!I376 -> 0 | G233: ='Paste Query'!J376 -> 0 | H233: ='Paste Query'!K376 -> 0 | ... Y233: ='Paste Query'!AB376 -> 0 | Z233: =IF(OR(A233 = "", A233 = 0), "", IF(P233 = "VIRTUAL AS", "Approved", IF(COUNTIF(List_of_Specialized_Rooms, P233) > 0, "Approved", IFERROR(VLOOKUP(W233 & " " & TEXT(X233,"h:mm AM/PM") & " - " & TEXT(Y233,"h:mm AM/PM"), Table_for_Approval, 2, FALSE), "Not Approved"))))
A234: ='Paste Query'!D235 -> 0 | B234: ='Paste Query'!E235 -> 0 | C234: ='Paste Query'!F235 -> 0 | D234: ='Paste Query'!G235 -> 0 | E234: ='Paste Query'!H235 -> 0 | F234: ='Paste Query'!I235 -> 0 | G234: ='Paste Query'!J235 -> 0 | H234: ='Paste Query'!K235 -> 0 | ... Y234: ='Paste Query'!AB235 -> 0 | Z234: =IF(OR(A234 = "", A234 = 0), "", IF(P234 = "VIRTUAL AS", "Approved", IF(COUNTIF(List_of_Specialized_Rooms, P234) > 0, "Approved", IFERROR(VLOOKUP(W234 & " " & TEXT(X234,"h:mm AM/PM") & " - " & TEXT(Y234,"h:mm AM/PM"), Table_for_Approval, 2, FALSE), "Not Approved"))))
A235: ='Paste Query'!D236 -> 0 | B235: ='Paste Query'!E236 -> 0 | C235: ='Paste Query'!F236 -> 0 | D235: ='Paste Query'!G236 -> 0 | E235: ='Paste Query'!H236 -> 0 | F235: ='Paste Query'!I236 -> 0 | G235: ='Paste Query'!J236 -> 0 | H235: ='Paste Query'!K236 -> 0 | ... Y235: ='Paste Query'!AB236 -> 0 | Z235: =IF(OR(A235 = "", A235 = 0), "", IF(P235 = "VIRTUAL AS", "Approved", IF(COUNTIF(List_of_Specialized_Rooms, P235) > 0, "Approved", IFERROR(VLOOKUP(W235 & " " & TEXT(X235,"h:mm AM/PM") & " - " & TEXT(Y235,"h:mm AM/PM"), Table_for_Approval, 2, FALSE), "Not Approved"))))
A236: ='Paste Query'!D237 -> 0 | B236: ='Paste Query'!E237 -> 0 | C236: ='Paste Query'!F237 -> 0 | D236: ='Paste Query'!G237 -> 0 | E236: ='Paste Query'!H237 -> 0 | F236: ='Paste Query'!I237 -> 0 | G236: ='Paste Query'!J237 -> 0 | H236: ='Paste Query'!K237 -> 0 | ... Y236: ='Paste Query'!AB237 -> 0 | Z236: =IF(OR(A236 = "", A236 = 0), "", IF(P236 = "VIRTUAL AS", "Approved", IF(COUNTIF(List_of_Specialized_Rooms, P236) > 0, "Approved", IFERROR(VLOOKUP(W236 & " " & TEXT(X236,"h:mm AM/PM") & " - " & TEXT(Y236,"h:mm AM/PM"), Table_for_Approval, 2, FALSE), "Not Approved"))))
A237: ='Paste Query'!D238 -> 0 | B237: ='Paste Query'!E238 -> 0 | C237: ='Paste Query'!F238 -> 0 | D237: ='Paste Query'!G238 -> 0 | E237: ='Paste Query'!H238 -> 0 | F237: ='Paste Query'!I238 -> 0 | G237: ='Paste Query'!J238 -> 0 | H237: ='Paste Query'!K238 -> 0 | ... Y237: ='Paste Query'!AB238 -> 0 | Z237: =IF(OR(A237 = "", A237 = 0), "", IF(P237 = "VIRTUAL AS", "Approved", IF(COUNTIF(List_of_Specialized_Rooms, P237) > 0, "Approved", IFERROR(VLOOKUP(W237 & " " & TEXT(X237,"h:mm AM/PM") & " - " & TEXT(Y237,"h:mm AM/PM"), Table_for_Approval, 2, FALSE), "Not Approved"))))
A238: ='Paste Query'!D239 -> 0 | B238: ='Paste Query'!E239 -> 0 | C238: ='Paste Query'!F239 -> 0 | D238: ='Paste Query'!G239 -> 0 | E238: ='Paste Query'!H239 -> 0 | F238: ='Paste Query'!I239 -> 0 | G238: ='Paste Query'!J239 -> 0 | H238: ='Paste Query'!K239 -> 0 | ... Y238: ='Paste Query'!AB239 -> 0 | Z238: =IF(OR(A238 = "", A238 = 0), "", IF(P238 = "VIRTUAL AS", "Approved", IF(COUNTIF(List_of_Specialized_Rooms, P238) > 0, "Approved", IFERROR(VLOOKUP(W238 & " " & TEXT(X238,"h:mm AM/PM") & " - " & TEXT(Y238,"h:mm AM/PM"), Table_for_Approval, 2, FALSE), "Not Approved"))))
A239: ='Paste Query'!D240 -> 0 | B239: ='Paste Query'!E240 -> 0 | C239: ='Paste Query'!F240 -> 0 | D239: ='Paste Query'!G240 -> 0 | E239: ='Paste Query'!H240 -> 0 | F239: ='Paste Query'!I240 -> 0 | G239: ='Paste Query'!J240 -> 0 | H239: ='Paste Query'!K240 -> 0 | ... Y239: ='Paste Query'!AB240 -> 0 | Z239: =IF(OR(A239 = "", A239 = 0), "", IF(P239 = "VIRTUAL AS", "Approved", IF(COUNTIF(List_of_Specialized_Rooms, P239) > 0, "Approved", IFERROR(VLOOKUP(W239 & " " & TEXT(X239,"h:mm AM/PM") & " - " & TEXT(Y239,"h:mm AM/PM"), Table_for_Approval, 2, FALSE), "Not Approved"))))
A240: ='Paste Query'!D241 -> 0 | B240: ='Paste Query'!E241 -> 0 | C240: ='Paste Query'!F241 -> 0 | D240: ='Paste Query'!G241 -> 0 | E240: ='Paste Query'!H241 -> 0 | F240: ='Paste Query'!I241 -> 0 | G240: ='Paste Query'!J241 -> 0 | H240: ='Paste Query'!K241 -> 0 | ... Y240: ='Paste Query'!AB241 -> 0 | Z240: =IF(OR(A240 = "", A240 = 0), "", IF(P240 = "VIRTUAL AS", "Approved", IF(COUNTIF(List_of_Specialized_Rooms, P240) > 0, "Approved", IFERROR(VLOOKUP(W240 & " " & TEXT(X240,"h:mm AM/PM") & " - " & TEXT(Y240,"h:mm AM/PM"), Table_for_Approval, 2, FALSE), "Not Approved"))))
A241: ='Paste Query'!D242 -> 0 | B241: ='Paste Query'!E242 -> 0 | C241: ='Paste Query'!F242 -> 0 | D241: ='Paste Query'!G242 -> 0 | E241: ='Paste Query'!H242 -> 0 | F241: ='Paste Query'!I242 -> 0 | G241: ='Paste Query'!J242 -> 0 | H241: ='Paste Query'!K242 -> 0 | ... Y241: ='Paste Query'!AB242 -> 0 | Z241: =IF(OR(A241 = "", A241 = 0), "", IF(P241 = "VIRTUAL AS", "Approved", IF(COUNTIF(List_of_Specialized_Rooms, P241) > 0, "Approved", IFERROR(VLOOKUP(W241 & " " & TEXT(X241,"h:mm AM/PM") & " - " & TEXT(Y241,"h:mm AM/PM"), Table_for_Approval, 2, FALSE), "Not Approved"))))
A242: ='Paste Query'!D243 -> 0 | B242: ='Paste Query'!E243 -> 0 | C242: ='Paste Query'!F243 -> 0 | D242: ='Paste Query'!G243 -> 0 | E242: ='Paste Query'!H243 -> 0 | F242: ='Paste Query'!I243 -> 0 | G242: ='Paste Query'!J243 -> 0 | H242: ='Paste Query'!K243 -> 0 | ... Y242: ='Paste Query'!AB243 -> 0 | Z242: =IF(OR(A242 = "", A242 = 0), "", IF(P242 = "VIRTUAL AS", "Approved", IF(COUNTIF(List_of_Specialized_Rooms, P242) > 0, "Approved", IFERROR(VLOOKUP(W242 & " " & TEXT(X242,"h:mm AM/PM") & " - " & TEXT(Y242,"h:mm AM/PM"), Table_for_Approval, 2, FALSE), "Not Approved"))))
A243: ='Paste Query'!D244 -> 0 | B243: ='Paste Query'!E244 -> 0 | C243: ='Paste Query'!F244 -> 0 | D243: ='Paste Query'!G244 -> 0 | E243: ='Paste Query'!H244 -> 0 | F243: ='Paste Query'!I244 -> 0 | G243: ='Paste Query'!J244 -> 0 | H243: ='Paste Query'!K244 -> 0 | ... Y243: ='Paste Query'!AB244 -> 0 | Z243: =IF(OR(A243 = "", A243 = 0), "", IF(P243 = "VIRTUAL AS", "Approved", IF(COUNTIF(List_of_Specialized_Rooms, P243) > 0, "Approved", IFERROR(VLOOKUP(W243 & " " & TEXT(X243,"h:mm AM/PM") & " - " & TEXT(Y243,"h:mm AM/PM"), Table_for_Approval, 2, FALSE), "Not Approved"))))
A244: ='Paste Query'!D245 -> 0 | B244: ='Paste Query'!E245 -> 0 | C244: ='Paste Query'!F245 -> 0 | D244: ='Paste Query'!G245 -> 0 | E244: ='Paste Query'!H245 -> 0 | F244: ='Paste Query'!I245 -> 0 | G244: ='Paste Query'!J245 -> 0 | H244: ='Paste Query'!K245 -> 0 | ... Y244: ='Paste Query'!AB245 -> 0 | Z244: =IF(OR(A244 = "", A244 = 0), "", IF(P244 = "VIRTUAL AS", "Approved", IF(COUNTIF(List_of_Specialized_Rooms, P244) > 0, "Approved", IFERROR(VLOOKUP(W244 & " " & TEXT(X244,"h:mm AM/PM") & " - " & TEXT(Y244,"h:mm AM/PM"), Table_for_Approval, 2, FALSE), "Not Approved"))))
A245: ='Paste Query'!D246 -> 0 | B245: ='Paste Query'!E246 -> 0 | C245: ='Paste Query'!F246 -> 0 | D245: ='Paste Query'!G246 -> 0 | E245: ='Paste Query'!H246 -> 0 | F245: ='Paste Query'!I246 -> 0 | G245: ='Paste Query'!J246 -> 0 | H245: ='Paste Query'!K246 -> 0 | ... Y245: ='Paste Query'!AB246 -> 0 | Z245: =IF(OR(A245 = "", A245 = 0), "", IF(P245 = "VIRTUAL AS", "Approved", IF(COUNTIF(List_of_Specialized_Rooms, P245) > 0, "Approved", IFERROR(VLOOKUP(W245 & " " & TEXT(X245,"h:mm AM/PM") & " - " & TEXT(Y245,"h:mm AM/PM"), Table_for_Approval, 2, FALSE), "Not Approved"))))
... A369: ='Paste Query'!D370 -> 0 | B369: ='Paste Query'!E370 -> 0 | C369: ='Paste Query'!F370 -> 0 | D369: ='Paste Query'!G370 -> 0 | E369: ='Paste Query'!H370 -> 0 | F369: ='Paste Query'!I370 -> 0 | G369: ='Paste Query'!J370 -> 0 | H369: ='Paste Query'!K370 -> 0 | ... Y369: ='Paste Query'!AB370 -> 0 | Z369: =IF(OR(A369 = "", A369 = 0), "", IF(P369 = "VIRTUAL AS", "Approved", IF(COUNTIF(List_of_Specialized_Rooms, P369) > 0, "Approved", IFERROR(VLOOKUP(W369 & " " & TEXT(X369,"h:mm AM/PM") & " - " & TEXT(Y369,"h:mm AM/PM"), Table_for_Approval, 2, FALSE), "Not Approved"))))
A370: ='Paste Query'!D2344 -> 0 | B370: ='Paste Query'!E2344 -> 0 | C370: ='Paste Query'!F2344 -> 0 | D370: ='Paste Query'!G2344 -> 0 | E370: ='Paste Query'!H2344 -> 0 | F370: ='Paste Query'!I2344 -> 0 | G370: ='Paste Query'!J2344 -> 0 | H370: ='Paste Query'!K2344 -> 0 | ... Y370: ='Paste Query'!AB2344 -> 0 | Z370: =IF(OR(A370 = "", A370 = 0), "", IF(P370 = "VIRTUAL AS", "Approved", IF(COUNTIF(List_of_Specialized_Rooms, P370) > 0, "Approved", IFERROR(VLOOKUP(W370 & " " & TEXT(X370,"h:mm AM/PM") & " - " & TEXT(Y370,"h:mm AM/PM"), Table_for_Approval, 2, FALSE), "Not Approved"))))
A371: ='Paste Query'!D1386 -> 0 | B371: ='Paste Query'!E1386 -> 0 | C371: ='Paste Query'!F1386 -> 0 | D371: ='Paste Query'!G1386 -> 0 | E371: ='Paste Query'!H1386 -> 0 | F371: ='Paste Query'!I1386 -> 0 | G371: ='Paste Query'!J1386 -> 0 | H371: ='Paste Query'!K1386 -> 0 | ... Y371: ='Paste Query'!AB1386 -> 0 | Z371: =IF(OR(A371 = "", A371 = 0), "", IF(P371 = "VIRTUAL AS", "Approved", IF(COUNTIF(List_of_Specialized_Rooms, P371) > 0, "Approved", IFERROR(VLOOKUP(W371 & " " & TEXT(X371,"h:mm AM/PM") & " - " & TEXT(Y371,"h:mm AM/PM"), Table_for_Approval, 2, FALSE), "Not Approved"))))
A372: ='Paste Query'!D373 -> 0 | B372: ='Paste Query'!E373 -> 0 | C372: ='Paste Query'!F373 -> 0 | D372: ='Paste Query'!G373 -> 0 | E372: ='Paste Query'!H373 -> 0 | F372: ='Paste Query'!I373 -> 0 | G372: ='Paste Query'!J373 -> 0 | H372: ='Paste Query'!K373 -> 0 | ... Y372: ='Paste Query'!AB373 -> 0 | Z372: =IF(OR(A372 = "", A372 = 0), "", IF(P372 = "VIRTUAL AS", "Approved", IF(COUNTIF(List_of_Specialized_Rooms, P372) > 0, "Approved", IFERROR(VLOOKUP(W372 & " " & TEXT(X372,"h:mm AM/PM") & " - " & TEXT(Y372,"h:mm AM/PM"), Table_for_Approval, 2, FALSE), "Not Approved"))))
A373: ='Paste Query'!D374 -> 0 | B373: ='Paste Query'!E374 -> 0 | C373: ='Paste Query'!F374 -> 0 | D373: ='Paste Query'!G374 -> 0 | E373: ='Paste Query'!H374 -> 0 | F373: ='Paste Query'!I374 -> 0 | G373: ='Paste Query'!J374 -> 0 | H373: ='Paste Query'!K374 -> 0 | ... Y373: ='Paste Query'!AB374 -> 0 | Z373: =IF(OR(A373 = "", A373 = 0), "", IF(P373 = "VIRTUAL AS", "Approved", IF(COUNTIF(List_of_Specialized_Rooms, P373) > 0, "Approved", IFERROR(VLOOKUP(W373 & " " & TEXT(X373,"h:mm AM/PM") & " - " & TEXT(Y373,"h:mm AM/PM"), Table_for_Approval, 2, FALSE), "Not Approved"))))
A374: ='Paste Query'!D375 -> 0 | B374: ='Paste Query'!E375 -> 0 | C374: ='Paste Query'!F375 -> 0 | D374: ='Paste Query'!G375 -> 0 | E374: ='Paste Query'!H375 -> 0 | F374: ='Paste Query'!I375 -> 0 | G374: ='Paste Query'!J375 -> 0 | H374: ='Paste Query'!K375 -> 0 | ... Y374: ='Paste Query'!AB375 -> 0 | Z374: =IF(OR(A374 = "", A374 = 0), "", IF(P374 = "VIRTUAL AS", "Approved", IF(COUNTIF(List_of_Specialized_Rooms, P374) > 0, "Approved", IFERROR(VLOOKUP(W374 & " " & TEXT(X374,"h:mm AM/PM") & " - " & TEXT(Y374,"h:mm AM/PM"), Table_for_Approval, 2, FALSE), "Not Approved"))))
A375: ='Paste Query'!D2252 -> 0 | B375: ='Paste Query'!E2252 -> 0 | C375: ='Paste Query'!F2252 -> 0 | D375: ='Paste Query'!G2252 -> 0 | E375: ='Paste Query'!H2252 -> 0 | F375: ='Paste Query'!I2252 -> 0 | G375: ='Paste Query'!J2252 -> 0 | H375: ='Paste Query'!K2252 -> 0 | ... Y375: ='Paste Query'!AB2252 -> 0 | Z375: =IF(OR(A375 = "", A375 = 0), "", IF(P375 = "VIRTUAL AS", "Approved", IF(COUNTIF(List_of_Specialized_Rooms, P375) > 0, "Approved", IFERROR(VLOOKUP(W375 & " " & TEXT(X375,"h:mm AM/PM") & " - " & TEXT(Y375,"h:mm AM/PM"), Table_for_Approval, 2, FALSE), "Not Approved"))))
A376: ='Paste Query'!D377 -> 0 | B376: ='Paste Query'!E377 -> 0 | C376: ='Paste Query'!F377 -> 0 | D376: ='Paste Query'!G377 -> 0 | E376: ='Paste Query'!H377 -> 0 | F376: ='Paste Query'!I377 -> 0 | G376: ='Paste Query'!J377 -> 0 | H376: ='Paste Query'!K377 -> 0 | ... Y376: ='Paste Query'!AB377 -> 0 | Z376: =IF(OR(A376 = "", A376 = 0), "", IF(P376 = "VIRTUAL AS", "Approved", IF(COUNTIF(List_of_Specialized_Rooms, P376) > 0, "Approved", IFERROR(VLOOKUP(W376 & " " & TEXT(X376,"h:mm AM/PM") & " - " & TEXT(Y376,"h:mm AM/PM"), Table_for_Approval, 2, FALSE), "Not Approved"))))
A377: ='Paste Query'!D378 -> 0 | B377: ='Paste Query'!E378 -> 0 | C377: ='Paste Query'!F378 -> 0 | D377: ='Paste Query'!G378 -> 0 | E377: ='Paste Query'!H378 -> 0 | F377: ='Paste Query'!I378 -> 0 | G377: ='Paste Query'!J378 -> 0 | H377: ='Paste Query'!K378 -> 0 | ... Y377: ='Paste Query'!AB378 -> 0 | Z377: =IF(OR(A377 = "", A377 = 0), "", IF(P377 = "VIRTUAL AS", "Approved", IF(COUNTIF(List_of_Specialized_Rooms, P377) > 0, "Approved", IFERROR(VLOOKUP(W377 & " " & TEXT(X377,"h:mm AM/PM") & " - " & TEXT(Y377,"h:mm AM/PM"), Table_for_Approval, 2, FALSE), "Not Approved"))))
A378: ='Paste Query'!D379 -> 0 | B378: ='Paste Query'!E379 -> 0 | C378: ='Paste Query'!F379 -> 0 | D378: ='Paste Query'!G379 -> 0 | E378: ='Paste Query'!H379 -> 0 | F378: ='Paste Query'!I379 -> 0 | G378: ='Paste Query'!J379 -> 0 | H378: ='Paste Query'!K379 -> 0 | ... Y378: ='Paste Query'!AB379 -> 0 | Z378: =IF(OR(A378 = "", A378 = 0), "", IF(P378 = "VIRTUAL AS", "Approved", IF(COUNTIF(List_of_Specialized_Rooms, P378) > 0, "Approved", IFERROR(VLOOKUP(W378 & " " & TEXT(X378,"h:mm AM/PM") & " - " & TEXT(Y378,"h:mm AM/PM"), Table_for_Approval, 2, FALSE), "Not Approved"))))
A379: ='Paste Query'!D380 -> 0 | B379: ='Paste Query'!E380 -> 0 | C379: ='Paste Query'!F380 -> 0 | D379: ='Paste Query'!G380 -> 0 | E379: ='Paste Query'!H380 -> 0 | F379: ='Paste Query'!I380 -> 0 | G379: ='Paste Query'!J380 -> 0 | H379: ='Paste Query'!K380 -> 0 | ... Y379: ='Paste Query'!AB380 -> 0 | Z379: =IF(OR(A379 = "", A379 = 0), "", IF(P379 = "VIRTUAL AS", "Approved", IF(COUNTIF(List_of_Specialized_Rooms, P379) > 0, "Approved", IFERROR(VLOOKUP(W379 & " " & TEXT(X379,"h:mm AM/PM") & " - " & TEXT(Y379,"h:mm AM/PM"), Table_for_Approval, 2, FALSE), "Not Approved"))))
A380: ='Paste Query'!D381 -> 0 | B380: ='Paste Query'!E381 -> 0 | C380: ='Paste Query'!F381 -> 0 | D380: ='Paste Query'!G381 -> 0 | E380: ='Paste Query'!H381 -> 0 | F380: ='Paste Query'!I381 -> 0 | G380: ='Paste Query'!J381 -> 0 | H380: ='Paste Query'!K381 -> 0 | ... Y380: ='Paste Query'!AB381 -> 0 | Z380: =IF(OR(A380 = "", A380 = 0), "", IF(P380 = "VIRTUAL AS", "Approved", IF(COUNTIF(List_of_Specialized_Rooms, P380) > 0, "Approved", IFERROR(VLOOKUP(W380 & " " & TEXT(X380,"h:mm AM/PM") & " - " & TEXT(Y380,"h:mm AM/PM"), Table_for_Approval, 2, FALSE), "Not Approved"))))
A381: ='Paste Query'!D382 -> 0 | B381: ='Paste Query'!E382 -> 0 | C381: ='Paste Query'!F382 -> 0 | D381: ='Paste Query'!G382 -> 0 | E381: ='Paste Query'!H382 -> 0 | F381: ='Paste Query'!I382 -> 0 | G381: ='Paste Query'!J382 -> 0 | H381: ='Paste Query'!K382 -> 0 | ... Y381: ='Paste Query'!AB382 -> 0 | Z381: =IF(OR(A381 = "", A381 = 0), "", IF(P381 = "VIRTUAL AS", "Approved", IF(COUNTIF(List_of_Specialized_Rooms, P381) > 0, "Approved", IFERROR(VLOOKUP(W381 & " " & TEXT(X381,"h:mm AM/PM") & " - " & TEXT(Y381,"h:mm AM/PM"), Table_for_Approval, 2, FALSE), "Not Approved"))))
A382: ='Paste Query'!D383 -> 0 | B382: ='Paste Query'!E383 -> 0 | C382: ='Paste Query'!F383 -> 0 | D382: ='Paste Query'!G383 -> 0 | E382: ='Paste Query'!H383 -> 0 | F382: ='Paste Query'!I383 -> 0 | G382: ='Paste Query'!J383 -> 0 | H382: ='Paste Query'!K383 -> 0 | ... Y382: ='Paste Query'!AB383 -> 0 | Z382: =IF(OR(A382 = "", A382 = 0), "", IF(P382 = "VIRTUAL AS", "Approved", IF(COUNTIF(List_of_Specialized_Rooms, P382) > 0, "Approved", IFERROR(VLOOKUP(W382 & " " & TEXT(X382,"h:mm AM/PM") & " - " & TEXT(Y382,"h:mm AM/PM"), Table_for_Approval, 2, FALSE), "Not Approved"))))
A383: ='Paste Query'!D384 -> 0 | B383: ='Paste Query'!E384 -> 0 | C383: ='Paste Query'!F384 -> 0 | D383: ='Paste Query'!G384 -> 0 | E383: ='Paste Query'!H384 -> 0 | F383: ='Paste Query'!I384 -> 0 | G383: ='Paste Query'!J384 -> 0 | H383: ='Paste Query'!K384 -> 0 | ... Y383: ='Paste Query'!AB384 -> 0 | Z383: =IF(OR(A383 = "", A383 = 0), "", IF(P383 = "VIRTUAL AS", "Approved", IF(COUNTIF(List_of_Specialized_Rooms, P383) > 0, "Approved", IFERROR(VLOOKUP(W383 & " " & TEXT(X383,"h:mm AM/PM") & " - " & TEXT(Y383,"h:mm AM/PM"), Table_for_Approval, 2, FALSE), "Not Approved"))))
A384: ='Paste Query'!D385 -> 0 | B384: ='Paste Query'!E385 -> 0 | C384: ='Paste Query'!F385 -> 0 | D384: ='Paste Query'!G385 -> 0 | E384: ='Paste Query'!H385 -> 0 | F384: ='Paste Query'!I385 -> 0 | G384: ='Paste Query'!J385 -> 0 | H384: ='Paste Query'!K385 -> 0 | ... Y384: ='Paste Query'!AB385 -> 0 | Z384: =IF(OR(A384 = "", A384 = 0), "", IF(P384 = "VIRTUAL AS", "Approved", IF(COUNTIF(List_of_Specialized_Rooms, P384) > 0, "Approved", IFERROR(VLOOKUP(W384 & " " & TEXT(X384,"h:mm AM/PM") & " - " & TEXT(Y384,"h:mm AM/PM"), Table_for_Approval, 2, FALSE), "Not Approved"))))
A385: ='Paste Query'!D386 -> 0 | B385: ='Paste Query'!E386 -> 0 | C385: ='Paste Query'!F386 -> 0 | D385: ='Paste Query'!G386 -> 0 | E385: ='Paste Query'!H386 -> 0 | F385: ='Paste Query'!I386 -> 0 | G385: ='Paste Query'!J386 -> 0 | H385: ='Paste Query'!K386 -> 0 | ... Y385: ='Paste Query'!AB386 -> 0 | Z385: =IF(OR(A385 = "", A385 = 0), "", IF(P385 = "VIRTUAL AS", "Approved", IF(COUNTIF(List_of_Specialized_Rooms, P385) > 0, "Approved", IFERROR(VLOOKUP(W385 & " " & TEXT(X385,"h:mm AM/PM") & " - " & TEXT(Y385,"h:mm AM/PM"), Table_for_Approval, 2, FALSE), "Not Approved"))))
A386: ='Paste Query'!D387 -> 0 | B386: ='Paste Query'!E387 -> 0 | C386: ='Paste Query'!F387 -> 0 | D386: ='Paste Query'!G387 -> 0 | E386: ='Paste Query'!H387 -> 0 | F386: ='Paste Query'!I387 -> 0 | G386: ='Paste Query'!J387 -> 0 | H386: ='Paste Query'!K387 -> 0 | ... Y386: ='Paste Query'!AB387 -> 0 | Z386: =IF(OR(A386 = "", A386 = 0), "", IF(P386 = "VIRTUAL AS", "Approved", IF(COUNTIF(List_of_Specialized_Rooms, P386) > 0, "Approved", IFERROR(VLOOKUP(W386 & " " & TEXT(X386,"h:mm AM/PM") & " - " & TEXT(Y386,"h:mm AM/PM"), Table_for_Approval, 2, FALSE), "Not Approved"))))
A387: ='Paste Query'!D388 -> 0 | B387: ='Paste Query'!E388 -> 0 | C387: ='Paste Query'!F388 -> 0 | D387: ='Paste Query'!G388 -> 0 | E387: ='Paste Query'!H388 -> 0 | F387: ='Paste Query'!I388 -> 0 | G387: ='Paste Query'!J388 -> 0 | H387: ='Paste Query'!K388 -> 0 | ... Y387: ='Paste Query'!AB388 -> 0 | Z387: =IF(OR(A387 = "", A387 = 0), "", IF(P387 = "VIRTUAL AS", "Approved", IF(COUNTIF(List_of_Specialized_Rooms, P387) > 0, "Approved", IFERROR(VLOOKUP(W387 & " " & TEXT(X387,"h:mm AM/PM") & " - " & TEXT(Y387,"h:mm AM/PM"), Table_for_Approval, 2, FALSE), "Not Approved"))))
... A562: ='Paste Query'!D563 -> 0 | B562: ='Paste Query'!E563 -> 0 | C562: ='Paste Query'!F563 -> 0 | D562: ='Paste Query'!G563 -> 0 | E562: ='Paste Query'!H563 -> 0 | F562: ='Paste Query'!I563 -> 0 | G562: ='Paste Query'!J563 -> 0 | H562: ='Paste Query'!K563 -> 0 | ... Y562: ='Paste Query'!AB563 -> 0 | Z562: =IF(OR(A562 = "", A562 = 0), "", IF(P562 = "VIRTUAL AS", "Approved", IF(COUNTIF(List_of_Specialized_Rooms, P562) > 0, "Approved", IFERROR(VLOOKUP(W562 & " " & TEXT(X562,"h:mm AM/PM") & " - " & TEXT(Y562,"h:mm AM/PM"), Table_for_Approval, 2, FALSE), "Not Approved"))))
A563: ='Paste Query'!D3130 -> 0 | B563: ='Paste Query'!E3130 -> 0 | C563: ='Paste Query'!F3130 -> 0 | D563: ='Paste Query'!G3130 -> 0 | E563: ='Paste Query'!H3130 -> 0 | F563: ='Paste Query'!I3130 -> 0 | G563: ='Paste Query'!J3130 -> 0 | H563: ='Paste Query'!K3130 -> 0 | ... Y563: ='Paste Query'!AB3130 -> 0 | Z563: =IF(OR(A563 = "", A563 = 0), "", IF(P563 = "VIRTUAL AS", "Approved", IF(COUNTIF(List_of_Specialized_Rooms, P563) > 0, "Approved", IFERROR(VLOOKUP(W563 & " " & TEXT(X563,"h:mm AM/PM") & " - " & TEXT(Y563,"h:mm AM/PM"), Table_for_Approval, 2, FALSE), "Not Approved"))))
A564: ='Paste Query'!D565 -> 0 | B564: ='Paste Query'!E565 -> 0 | C564: ='Paste Query'!F565 -> 0 | D564: ='Paste Query'!G565 -> 0 | E564: ='Paste Query'!H565 -> 0 | F564: ='Paste Query'!I565 -> 0 | G564: ='Paste Query'!J565 -> 0 | H564: ='Paste Query'!K565 -> 0 | ... Y564: ='Paste Query'!AB565 -> 0 | Z564: =IF(OR(A564 = "", A564 = 0), "", IF(P564 = "VIRTUAL AS", "Approved", IF(COUNTIF(List_of_Specialized_Rooms, P564) > 0, "Approved", IFERROR(VLOOKUP(W564 & " " & TEXT(X564,"h:mm AM/PM") & " - " & TEXT(Y564,"h:mm AM/PM"), Table_for_Approval, 2, FALSE), "Not Approved"))))
A565: ='Paste Query'!D3131 -> 0 | B565: ='Paste Query'!E3131 -> 0 | C565: ='Paste Query'!F3131 -> 0 | D565: ='Paste Query'!G3131 -> 0 | E565: ='Paste Query'!H3131 -> 0 | F565: ='Paste Query'!I3131 -> 0 | G565: ='Paste Query'!J3131 -> 0 | H565: ='Paste Query'!K3131 -> 0 | ... Y565: ='Paste Query'!AB3131 -> 0 | Z565: =IF(OR(A565 = "", A565 = 0), "", IF(P565 = "VIRTUAL AS", "Approved", IF(COUNTIF(List_of_Specialized_Rooms, P565) > 0, "Approved", IFERROR(VLOOKUP(W565 & " " & TEXT(X565,"h:mm AM/PM") & " - " & TEXT(Y565,"h:mm AM/PM"), Table_for_Approval, 2, FALSE), "Not Approved"))))
A566: ='Paste Query'!D567 -> 0 | B566: ='Paste Query'!E567 -> 0 | C566: ='Paste Query'!F567 -> 0 | D566: ='Paste Query'!G567 -> 0 | E566: ='Paste Query'!H567 -> 0 | F566: ='Paste Query'!I567 -> 0 | G566: ='Paste Query'!J567 -> 0 | H566: ='Paste Query'!K567 -> 0 | ... Y566: ='Paste Query'!AB567 -> 0 | Z566: =IF(OR(A566 = "", A566 = 0), "", IF(P566 = "VIRTUAL AS", "Approved", IF(COUNTIF(List_of_Specialized_Rooms, P566) > 0, "Approved", IFERROR(VLOOKUP(W566 & " " & TEXT(X566,"h:mm AM/PM") & " - " & TEXT(Y566,"h:mm AM/PM"), Table_for_Approval, 2, FALSE), "Not Approved"))))
A567: ='Paste Query'!D568 -> 0 | B567: ='Paste Query'!E568 -> 0 | C567: ='Paste Query'!F568 -> 0 | D567: ='Paste Query'!G568 -> 0 | E567: ='Paste Query'!H568 -> 0 | F567: ='Paste Query'!I568 -> 0 | G567: ='Paste Query'!J568 -> 0 | H567: ='Paste Query'!K568 -> 0 | ... Y567: ='Paste Query'!AB568 -> 0 | Z567: =IF(OR(A567 = "", A567 = 0), "", IF(P567 = "VIRTUAL AS", "Approved", IF(COUNTIF(List_of_Specialized_Rooms, P567) > 0, "Approved", IFERROR(VLOOKUP(W567 & " " & TEXT(X567,"h:mm AM/PM") & " - " & TEXT(Y567,"h:mm AM/PM"), Table_for_Approval, 2, FALSE), "Not Approved"))))
A568: ='Paste Query'!D569 -> 0 | B568: ='Paste Query'!E569 -> 0 | C568: ='Paste Query'!F569 -> 0 | D568: ='Paste Query'!G569 -> 0 | E568: ='Paste Query'!H569 -> 0 | F568: ='Paste Query'!I569 -> 0 | G568: ='Paste Query'!J569 -> 0 | H568: ='Paste Query'!K569 -> 0 | ... Y568: ='Paste Query'!AB569 -> 0 | Z568: =IF(OR(A568 = "", A568 = 0), "", IF(P568 = "VIRTUAL AS", "Approved", IF(COUNTIF(List_of_Specialized_Rooms, P568) > 0, "Approved", IFERROR(VLOOKUP(W568 & " " & TEXT(X568,"h:mm AM/PM") & " - " & TEXT(Y568,"h:mm AM/PM"), Table_for_Approval, 2, FALSE), "Not Approved"))))
A569: ='Paste Query'!D570 -> 0 | B569: ='Paste Query'!E570 -> 0 | C569: ='Paste Query'!F570 -> 0 | D569: ='Paste Query'!G570 -> 0 | E569: ='Paste Query'!H570 -> 0 | F569: ='Paste Query'!I570 -> 0 | G569: ='Paste Query'!J570 -> 0 | H569: ='Paste Query'!K570 -> 0 | ... Y569: ='Paste Query'!AB570 -> 0 | Z569: =IF(OR(A569 = "", A569 = 0), "", IF(P569 = "VIRTUAL AS", "Approved", IF(COUNTIF(List_of_Specialized_Rooms, P569) > 0, "Approved", IFERROR(VLOOKUP(W569 & " " & TEXT(X569,"h:mm AM/PM") & " - " & TEXT(Y569,"h:mm AM/PM"), Table_for_Approval, 2, FALSE), "Not Approved"))))
A570: ='Paste Query'!D571 -> 0 | B570: ='Paste Query'!E571 -> 0 | C570: ='Paste Query'!F571 -> 0 | D570: ='Paste Query'!G571 -> 0 | E570: ='Paste Query'!H571 -> 0 | F570: ='Paste Query'!I571 -> 0 | G570: ='Paste Query'!J571 -> 0 | H570: ='Paste Query'!K571 -> 0 | ... Y570: ='Paste Query'!AB571 -> 0 | Z570: =IF(OR(A570 = "", A570 = 0), "", IF(P570 = "VIRTUAL AS", "Approved", IF(COUNTIF(List_of_Specialized_Rooms, P570) > 0, "Approved", IFERROR(VLOOKUP(W570 & " " & TEXT(X570,"h:mm AM/PM") & " - " & TEXT(Y570,"h:mm AM/PM"), Table_for_Approval, 2, FALSE), "Not Approved"))))
A571: ='Paste Query'!D572 -> 0 | B571: ='Paste Query'!E572 -> 0 | C571: ='Paste Query'!F572 -> 0 | D571: ='Paste Query'!G572 -> 0 | E571: ='Paste Query'!H572 -> 0 | F571: ='Paste Query'!I572 -> 0 | G571: ='Paste Query'!J572 -> 0 | H571: ='Paste Query'!K572 -> 0 | ... Y571: ='Paste Query'!AB572 -> 0 | Z571: =IF(OR(A571 = "", A571 = 0), "", IF(P571 = "VIRTUAL AS", "Approved", IF(COUNTIF(List_of_Specialized_Rooms, P571) > 0, "Approved", IFERROR(VLOOKUP(W571 & " " & TEXT(X571,"h:mm AM/PM") & " - " & TEXT(Y571,"h:mm AM/PM"), Table_for_Approval, 2, FALSE), "Not Approved"))))
A572: ='Paste Query'!D573 -> 0 | B572: ='Paste Query'!E573 -> 0 | C572: ='Paste Query'!F573 -> 0 | D572: ='Paste Query'!G573 -> 0 | E572: ='Paste Query'!H573 -> 0 | F572: ='Paste Query'!I573 -> 0 | G572: ='Paste Query'!J573 -> 0 | H572: ='Paste Query'!K573 -> 0 | ... Y572: ='Paste Query'!AB573 -> 0 | Z572: =IF(OR(A572 = "", A572 = 0), "", IF(P572 = "VIRTUAL AS", "Approved", IF(COUNTIF(List_of_Specialized_Rooms, P572) > 0, "Approved", IFERROR(VLOOKUP(W572 & " " & TEXT(X572,"h:mm AM/PM") & " - " & TEXT(Y572,"h:mm AM/PM"), Table_for_Approval, 2, FALSE), "Not Approved"))))
A573: ='Paste Query'!D574 -> 0 | B573: ='Paste Query'!E574 -> 0 | C573: ='Paste Query'!F574 -> 0 | D573: ='Paste Query'!G574 -> 0 | E573: ='Paste Query'!H574 -> 0 | F573: ='Paste Query'!I574 -> 0 | G573: ='Paste Query'!J574 -> 0 | H573: ='Paste Query'!K574 -> 0 | ... Y573: ='Paste Query'!AB574 -> 0 | Z573: =IF(OR(A573 = "", A573 = 0), "", IF(P573 = "VIRTUAL AS", "Approved", IF(COUNTIF(List_of_Specialized_Rooms, P573) > 0, "Approved", IFERROR(VLOOKUP(W573 & " " & TEXT(X573,"h:mm AM/PM") & " - " & TEXT(Y573,"h:mm AM/PM"), Table_for_Approval, 2, FALSE), "Not Approved"))))
A574: ='Paste Query'!D575 -> 0 | B574: ='Paste Query'!E575 -> 0 | C574: ='Paste Query'!F575 -> 0 | D574: ='Paste Query'!G575 -> 0 | E574: ='Paste Query'!H575 -> 0 | F574: ='Paste Query'!I575 -> 0 | G574: ='Paste Query'!J575 -> 0 | H574: ='Paste Query'!K575 -> 0 | ... Y574: ='Paste Query'!AB575 -> 0 | Z574: =IF(OR(A574 = "", A574 = 0), "", IF(P574 = "VIRTUAL AS", "Approved", IF(COUNTIF(List_of_Specialized_Rooms, P574) > 0, "Approved", IFERROR(VLOOKUP(W574 & " " & TEXT(X574,"h:mm AM/PM") & " - " & TEXT(Y574,"h:mm AM/PM"), Table_for_Approval, 2, FALSE), "Not Approved"))))
A575: ='Paste Query'!D576 -> 0 | B575: ='Paste Query'!E576 -> 0 | C575: ='Paste Query'!F576 -> 0 | D575: ='Paste Query'!G576 -> 0 | E575: ='Paste Query'!H576 -> 0 | F575: ='Paste Query'!I576 -> 0 | G575: ='Paste Query'!J576 -> 0 | H575: ='Paste Query'!K576 -> 0 | ... Y575: ='Paste Query'!AB576 -> 0 | Z575: =IF(OR(A575 = "", A575 = 0), "", IF(P575 = "VIRTUAL AS", "Approved", IF(COUNTIF(List_of_Specialized_Rooms, P575) > 0, "Approved", IFERROR(VLOOKUP(W575 & " " & TEXT(X575,"h:mm AM/PM") & " - " & TEXT(Y575,"h:mm AM/PM"), Table_for_Approval, 2, FALSE), "Not Approved"))))
A576: ='Paste Query'!D577 -> 0 | B576: ='Paste Query'!E577 -> 0 | C576: ='Paste Query'!F577 -> 0 | D576: ='Paste Query'!G577 -> 0 | E576: ='Paste Query'!H577 -> 0 | F576: ='Paste Query'!I577 -> 0 | G576: ='Paste Query'!J577 -> 0 | H576: ='Paste Query'!K577 -> 0 | ... Y576: ='Paste Query'!AB577 -> 0 | Z576: =IF(OR(A576 = "", A576 = 0), "", IF(P576 = "VIRTUAL AS", "Approved", IF(COUNTIF(List_of_Specialized_Rooms, P576) > 0, "Approved", IFERROR(VLOOKUP(W576 & " " & TEXT(X576,"h:mm AM/PM") & " - " & TEXT(Y576,"h:mm AM/PM"), Table_for_Approval, 2, FALSE), "Not Approved"))))
A577: ='Paste Query'!D578 -> 0 | B577: ='Paste Query'!E578 -> 0 | C577: ='Paste Query'!F578 -> 0 | D577: ='Paste Query'!G578 -> 0 | E577: ='Paste Query'!H578 -> 0 | F577: ='Paste Query'!I578 -> 0 | G577: ='Paste Query'!J578 -> 0 | H577: ='Paste Query'!K578 -> 0 | ... Y577: ='Paste Query'!AB578 -> 0 | Z577: =IF(OR(A577 = "", A577 = 0), "", IF(P577 = "VIRTUAL AS", "Approved", IF(COUNTIF(List_of_Specialized_Rooms, P577) > 0, "Approved", IFERROR(VLOOKUP(W577 & " " & TEXT(X577,"h:mm AM/PM") & " - " & TEXT(Y577,"h:mm AM/PM"), Table_for_Approval, 2, FALSE), "Not Approved"))))
... A610: ='Paste Query'!D611 -> 0 | B610: ='Paste Query'!E611 -> 0 | C610: ='Paste Query'!F611 -> 0 | D610: ='Paste Query'!G611 -> 0 | E610: ='Paste Query'!H611 -> 0 | F610: ='Paste Query'!I611 -> 0 | G610: ='Paste Query'!J611 -> 0 | H610: ='Paste Query'!K611 -> 0 | ... Y610: ='Paste Query'!AB611 -> 0 | Z610: =IF(OR(A610 = "", A610 = 0), "", IF(P610 = "VIRTUAL AS", "Approved", IF(COUNTIF(List_of_Specialized_Rooms, P610) > 0, "Approved", IFERROR(VLOOKUP(W610 & " " & TEXT(X610,"h:mm AM/PM") & " - " & TEXT(Y610,"h:mm AM/PM"), Table_for_Approval, 2, FALSE), "Not Approved"))))
A611: ='Paste Query'!D3132 -> 0 | B611: ='Paste Query'!E3132 -> 0 | C611: ='Paste Query'!F3132 -> 0 | D611: ='Paste Query'!G3132 -> 0 | E611: ='Paste Query'!H3132 -> 0 | F611: ='Paste Query'!I3132 -> 0 | G611: ='Paste Query'!J3132 -> 0 | H611: ='Paste Query'!K3132 -> 0 | ... Y611: ='Paste Query'!AB3132 -> 0 | Z611: =IF(OR(A611 = "", A611 = 0), "", IF(P611 = "VIRTUAL AS", "Approved", IF(COUNTIF(List_of_Specialized_Rooms, P611) > 0, "Approved", IFERROR(VLOOKUP(W611 & " " & TEXT(X611,"h:mm AM/PM") & " - " & TEXT(Y611,"h:mm AM/PM"), Table_for_Approval, 2, FALSE), "Not Approved"))))
A612: ='Paste Query'!D613 -> 0 | B612: ='Paste Query'!E613 -> 0 | C612: ='Paste Query'!F613 -> 0 | D612: ='Paste Query'!G613 -> 0 | E612: ='Paste Query'!H613 -> 0 | F612: ='Paste Query'!I613 -> 0 | G612: ='Paste Query'!J613 -> 0 | H612: ='Paste Query'!K613 -> 0 | ... Y612: ='Paste Query'!AB613 -> 0 | Z612: =IF(OR(A612 = "", A612 = 0), "", IF(P612 = "VIRTUAL AS", "Approved", IF(COUNTIF(List_of_Specialized_Rooms, P612) > 0, "Approved", IFERROR(VLOOKUP(W612 & " " & TEXT(X612,"h:mm AM/PM") & " - " & TEXT(Y612,"h:mm AM/PM"), Table_for_Approval, 2, FALSE), "Not Approved"))))
A613: ='Paste Query'!D614 -> 0 | B613: ='Paste Query'!E614 -> 0 | C613: ='Paste Query'!F614 -> 0 | D613: ='Paste Query'!G614 -> 0 | E613: ='Paste Query'!H614 -> 0 | F613: ='Paste Query'!I614 -> 0 | G613: ='Paste Query'!J614 -> 0 | H613: ='Paste Query'!K614 -> 0 | ... Y613: ='Paste Query'!AB614 -> 0 | Z613: =IF(OR(A613 = "", A613 = 0), "", IF(P613 = "VIRTUAL AS", "Approved", IF(COUNTIF(List_of_Specialized_Rooms, P613) > 0, "Approved", IFERROR(VLOOKUP(W613 & " " & TEXT(X613,"h:mm AM/PM") & " - " & TEXT(Y613,"h:mm AM/PM"), Table_for_Approval, 2, FALSE), "Not Approved"))))
A614: ='Paste Query'!D615 -> 0 | B614: ='Paste Query'!E615 -> 0 | C614: ='Paste Query'!F615 -> 0 | D614: ='Paste Query'!G615 -> 0 | E614: ='Paste Query'!H615 -> 0 | F614: ='Paste Query'!I615 -> 0 | G614: ='Paste Query'!J615 -> 0 | H614: ='Paste Query'!K615 -> 0 | ... Y614: ='Paste Query'!AB615 -> 0 | Z614: =IF(OR(A614 = "", A614 = 0), "", IF(P614 = "VIRTUAL AS", "Approved", IF(COUNTIF(List_of_Specialized_Rooms, P614) > 0, "Approved", IFERROR(VLOOKUP(W614 & " " & TEXT(X614,"h:mm AM/PM") & " - " & TEXT(Y614,"h:mm AM/PM"), Table_for_Approval, 2, FALSE), "Not Approved"))))
A615: ='Paste Query'!D616 -> 0 | B615: ='Paste Query'!E616 -> 0 | C615: ='Paste Query'!F616 -> 0 | D615: ='Paste Query'!G616 -> 0 | E615: ='Paste Query'!H616 -> 0 | F615: ='Paste Query'!I616 -> 0 | G615: ='Paste Query'!J616 -> 0 | H615: ='Paste Query'!K616 -> 0 | ... Y615: ='Paste Query'!AB616 -> 0 | Z615: =IF(OR(A615 = "", A615 = 0), "", IF(P615 = "VIRTUAL AS", "Approved", IF(COUNTIF(List_of_Specialized_Rooms, P615) > 0, "Approved", IFERROR(VLOOKUP(W615 & " " & TEXT(X615,"h:mm AM/PM") & " - " & TEXT(Y615,"h:mm AM/PM"), Table_for_Approval, 2, FALSE), "Not Approved"))))
A616: ='Paste Query'!D617 -> 0 | B616: ='Paste Query'!E617 -> 0 | C616: ='Paste Query'!F617 -> 0 | D616: ='Paste Query'!G617 -> 0 | E616: ='Paste Query'!H617 -> 0 | F616: ='Paste Query'!I617 -> 0 | G616: ='Paste Query'!J617 -> 0 | H616: ='Paste Query'!K617 -> 0 | ... Y616: ='Paste Query'!AB617 -> 0 | Z616: =IF(OR(A616 = "", A616 = 0), "", IF(P616 = "VIRTUAL AS", "Approved", IF(COUNTIF(List_of_Specialized_Rooms, P616) > 0, "Approved", IFERROR(VLOOKUP(W616 & " " & TEXT(X616,"h:mm AM/PM") & " - " & TEXT(Y616,"h:mm AM/PM"), Table_for_Approval, 2, FALSE), "Not Approved"))))
A617: ='Paste Query'!D618 -> 0 | B617: ='Paste Query'!E618 -> 0 | C617: ='Paste Query'!F618 -> 0 | D617: ='Paste Query'!G618 -> 0 | E617: ='Paste Query'!H618 -> 0 | F617: ='Paste Query'!I618 -> 0 | G617: ='Paste Query'!J618 -> 0 | H617: ='Paste Query'!K618 -> 0 | ... Y617: ='Paste Query'!AB618 -> 0 | Z617: =IF(OR(A617 = "", A617 = 0), "", IF(P617 = "VIRTUAL AS", "Approved", IF(COUNTIF(List_of_Specialized_Rooms, P617) > 0, "Approved", IFERROR(VLOOKUP(W617 & " " & TEXT(X617,"h:mm AM/PM") & " - " & TEXT(Y617,"h:mm AM/PM"), Table_for_Approval, 2, FALSE), "Not Approved"))))
A618: ='Paste Query'!D619 -> 0 | B618: ='Paste Query'!E619 -> 0 | C618: ='Paste Query'!F619 -> 0 | D618: ='Paste Query'!G619 -> 0 | E618: ='Paste Query'!H619 -> 0 | F618: ='Paste Query'!I619 -> 0 | G618: ='Paste Query'!J619 -> 0 | H618: ='Paste Query'!K619 -> 0 | ... Y618: ='Paste Query'!AB619 -> 0 | Z618: =IF(OR(A618 = "", A618 = 0), "", IF(P618 = "VIRTUAL AS", "Approved", IF(COUNTIF(List_of_Specialized_Rooms, P618) > 0, "Approved", IFERROR(VLOOKUP(W618 & " " & TEXT(X618,"h:mm AM/PM") & " - " & TEXT(Y618,"h:mm AM/PM"), Table_for_Approval, 2, FALSE), "Not Approved"))))
A619: ='Paste Query'!D620 -> 0 | B619: ='Paste Query'!E620 -> 0 | C619: ='Paste Query'!F620 -> 0 | D619: ='Paste Query'!G620 -> 0 | E619: ='Paste Query'!H620 -> 0 | F619: ='Paste Query'!I620 -> 0 | G619: ='Paste Query'!J620 -> 0 | H619: ='Paste Query'!K620 -> 0 | ... Y619: ='Paste Query'!AB620 -> 0 | Z619: =IF(OR(A619 = "", A619 = 0), "", IF(P619 = "VIRTUAL AS", "Approved", IF(COUNTIF(List_of_Specialized_Rooms, P619) > 0, "Approved", IFERROR(VLOOKUP(W619 & " " & TEXT(X619,"h:mm AM/PM") & " - " & TEXT(Y619,"h:mm AM/PM"), Table_for_Approval, 2, FALSE), "Not Approved"))))
A620: ='Paste Query'!D621 -> 0 | B620: ='Paste Query'!E621 -> 0 | C620: ='Paste Query'!F621 -> 0 | D620: ='Paste Query'!G621 -> 0 | E620: ='Paste Query'!H621 -> 0 | F620: ='Paste Query'!I621 -> 0 | G620: ='Paste Query'!J621 -> 0 | H620: ='Paste Query'!K621 -> 0 | ... Y620: ='Paste Query'!AB621 -> 0 | Z620: =IF(OR(A620 = "", A620 = 0), "", IF(P620 = "VIRTUAL AS", "Approved", IF(COUNTIF(List_of_Specialized_Rooms, P620) > 0, "Approved", IFERROR(VLOOKUP(W620 & " " & TEXT(X620,"h:mm AM/PM") & " - " & TEXT(Y620,"h:mm AM/PM"), Table_for_Approval, 2, FALSE), "Not Approved"))))
A621: ='Paste Query'!D622 -> 0 | B621: ='Paste Query'!E622 -> 0 | C621: ='Paste Query'!F622 -> 0 | D621: ='Paste Query'!G622 -> 0 | E621: ='Paste Query'!H622 -> 0 | F621: ='Paste Query'!I622 -> 0 | G621: ='Paste Query'!J622 -> 0 | H621: ='Paste Query'!K622 -> 0 | ... Y621: ='Paste Query'!AB622 -> 0 | Z621: =IF(OR(A621 = "", A621 = 0), "", IF(P621 = "VIRTUAL AS", "Approved", IF(COUNTIF(List_of_Specialized_Rooms, P621) > 0, "Approved", IFERROR(VLOOKUP(W621 & " " & TEXT(X621,"h:mm AM/PM") & " - " & TEXT(Y621,"h:mm AM/PM"), Table_for_Approval, 2, FALSE), "Not Approved"))))
A622: ='Paste Query'!D623 -> 0 | B622: ='Paste Query'!E623 -> 0 | C622: ='Paste Query'!F623 -> 0 | D622: ='Paste Query'!G623 -> 0 | E622: ='Paste Query'!H623 -> 0 | F622: ='Paste Query'!I623 -> 0 | G622: ='Paste Query'!J623 -> 0 | H622: ='Paste Query'!K623 -> 0 | ... Y622: ='Paste Query'!AB623 -> 0 | Z622: =IF(OR(A622 = "", A622 = 0), "", IF(P622 = "VIRTUAL AS", "Approved", IF(COUNTIF(List_of_Specialized_Rooms, P622) > 0, "Approved", IFERROR(VLOOKUP(W622 & " " & TEXT(X622,"h:mm AM/PM") & " - " & TEXT(Y622,"h:mm AM/PM"), Table_for_Approval, 2, FALSE), "Not Approved"))))
A623: ='Paste Query'!D624 -> 0 | B623: ='Paste Query'!E624 -> 0 | C623: ='Paste Query'!F624 -> 0 | D623: ='Paste Query'!G624 -> 0 | E623: ='Paste Query'!H624 -> 0 | F623: ='Paste Query'!I624 -> 0 | G623: ='Paste Query'!J624 -> 0 | H623: ='Paste Query'!K624 -> 0 | ... Y623: ='Paste Query'!AB624 -> 0 | Z623: =IF(OR(A623 = "", A623 = 0), "", IF(P623 = "VIRTUAL AS", "Approved", IF(COUNTIF(List_of_Specialized_Rooms, P623) > 0, "Approved", IFERROR(VLOOKUP(W623 & " " & TEXT(X623,"h:mm AM/PM") & " - " & TEXT(Y623,"h:mm AM/PM"), Table_for_Approval, 2, FALSE), "Not Approved"))))
... A795: ='Paste Query'!D796 -> 0 | B795: ='Paste Query'!E796 -> 0 | C795: ='Paste Query'!F796 -> 0 | D795: ='Paste Query'!G796 -> 0 | E795: ='Paste Query'!H796 -> 0 | F795: ='Paste Query'!I796 -> 0 | G795: ='Paste Query'!J796 -> 0 | H795: ='Paste Query'!K796 -> 0 | ... Y795: ='Paste Query'!AB796 -> 0 | Z795: =IF(OR(A795 = "", A795 = 0), "", IF(P795 = "VIRTUAL AS", "Approved", IF(COUNTIF(List_of_Specialized_Rooms, P795) > 0, "Approved", IFERROR(VLOOKUP(W795 & " " & TEXT(X795,"h:mm AM/PM") & " - " & TEXT(Y795,"h:mm AM/PM"), Table_for_Approval, 2, FALSE), "Not Approved"))))
A796: ='Paste Query'!D3133 -> 0 | B796: ='Paste Query'!E3133 -> 0 | C796: ='Paste Query'!F3133 -> 0 | D796: ='Paste Query'!G3133 -> 0 | E796: ='Paste Query'!H3133 -> 0 | F796: ='Paste Query'!I3133 -> 0 | G796: ='Paste Query'!J3133 -> 0 | H796: ='Paste Query'!K3133 -> 0 | ... Y796: ='Paste Query'!AB3133 -> 0 | Z796: =IF(OR(A796 = "", A796 = 0), "", IF(P796 = "VIRTUAL AS", "Approved", IF(COUNTIF(List_of_Specialized_Rooms, P796) > 0, "Approved", IFERROR(VLOOKUP(W796 & " " & TEXT(X796,"h:mm AM/PM") & " - " & TEXT(Y796,"h:mm AM/PM"), Table_for_Approval, 2, FALSE), "Not Approved"))))
...

Sheet Smry of Audit Results
B12: =Results!#REF! -> #REF!
B14: Count of Audit Result
B15: Subject | C15: Catalog | D15: Section | E15: Component | F15: Audit Result | G15: Total
B16: 0 | C16: 0 | D16: 0 | E16: 0 | F16: Not Approved | G16: 2
B17: Grand Total | G17: 2

Sheet Approval List
A1: Class Times | B1: Approved? | D1: List of Specialized Rooms
A2: 1:00 PM - 2:50 PM | B2: Not Approved - MUST Add Days | D2: ACD 104
A3: 1:30 PM - 3:20 PM | B3: Not Approved - MUST Add Days | D3: ACD 113
A4: 10:00 AM - 11:50 AM | B4: Not Approved - MUST Add Days | D4: ACD 115
A5: 10:00 AM - 12:50 PM | B5: Not Approved - MUST Add Days | D5: ARTS 111
A6: 10:30 AM - 1:20 PM | B6: Not Approved - MUST Add Days | D6: ARTS 116
A7: 10:30 PM - 11:45 PM | B7: Not Approved - MUST Add Days | D7: ARTS 177
A8: 11:00 AM - 12:50 PM | B8: Not Approved - MUST Add Days | D8: ARTS 239
A9: 12:00 AM - 12:00 AM | B9: Maybe Approved - for ASYNC Classes. If this should be deleted & is a STATE-SIDE class, PLEASE do so on the Basic Data page. | D9: ARTS 340
A10: 12:00 PM - 12:50 PM | B10: Not Approved - MUST Add Days | D10: ARTS 342
A11: 12:00 PM - 2:50 PM | B11: Not Approved - MUST Add Days | D11: ARTS 344
A12: 12:30 PM - 1:30 PM | B12: Not Approved - MUST Add Days | D12: ARTS 346
... A43: F 1:30 PM - 3:20 PM | B43: Maybe Approved - ONLY for laboratory classes in dedicated space | D43: VEP 5109
A44: F 1:30 PM - 4:20 PM | B44: Maybe Approved - ONLY for laboratory classes in dedicated space
A45: F 10:00 AM - 11:50 AM | B45: Not Approved
A46: F 10:00 AM - 12:50 PM | B46: Not Approved
A47: F 10:30 AM - 1:20 PM | B47: Approved
A48: F 10:30 AM - 11:20 AM | B48: Approved
A49: F 10:30 AM - 12:20 PM | B49: Approved
A50: F 10:30 AM - 2:20 PM | B50: Approved
A51: F 11:30 AM - 1:20 PM | B51: Approved
A52: F 11:30 AM - 12:20 PM | B52: Approved
A53: F 11:30 AM - 2:15 PM | B53: Not Approved - For Approval, change end time to 20 minutes after the hour (instead of :15)
A54: F 11:30 AM - 2:20 PM | B54: Approved
A55: F 11:30 AM - 5:15 PM | B55: Approved
... A851: M 9:00 AM - 9:50 AM | B851: Not Approved - Monday & Wednesday Approved Times start on the Half Hour (X:30 AM/PM)
